BEGIN:VCALENDAR
VERSION:2.0
PRODID:-//Abingdon on Thames Town Council - ECPv6.15.18//NONSGML v1.0//EN
CALSCALE:GREGORIAN
METHOD:PUBLISH
X-WR-CALNAME:Abingdon on Thames Town Council
X-ORIGINAL-URL:https://www.abingdon.gov.uk
X-WR-CALDESC:Events for Abingdon on Thames Town Council
REFRESH-INTERVAL;VALUE=DURATION:PT1H
X-Robots-Tag:noindex
X-PUBLISHED-TTL:PT1H
BEGIN:VTIMEZONE
TZID:Europe/London
BEGIN:DAYLIGHT
TZOFFSETFROM:+0000
TZOFFSETTO:+0100
TZNAME:BST
DTSTART:20230326T010000
END:DAYLIGHT
BEGIN:STANDARD
TZOFFSETFROM:+0100
TZOFFSETTO:+0000
TZNAME:GMT
DTSTART:20231029T010000
END:STANDARD
BEGIN:DAYLIGHT
TZOFFSETFROM:+0000
TZOFFSETTO:+0100
TZNAME:BST
DTSTART:20240331T010000
END:DAYLIGHT
BEGIN:STANDARD
TZOFFSETFROM:+0100
TZOFFSETTO:+0000
TZNAME:GMT
DTSTART:20241027T010000
END:STANDARD
BEGIN:DAYLIGHT
TZOFFSETFROM:+0000
TZOFFSETTO:+0100
TZNAME:BST
DTSTART:20250330T010000
END:DAYLIGHT
BEGIN:STANDARD
TZOFFSETFROM:+0100
TZOFFSETTO:+0000
TZNAME:GMT
DTSTART:20251026T010000
END:STANDARD
END:VTIMEZONE
BEGIN:VEVENT
DTSTART;VALUE=DATE:20240504
DTEND;VALUE=DATE:20240507
DTSTAMP:20260423T041742
CREATED:20240118T150657Z
LAST-MODIFIED:20240118T150657Z
UID:45168-1714780800-1715039999@www.abingdon.gov.uk
SUMMARY:10th Lechlade Annual Vintage Rally & Country Show
DESCRIPTION:10th Lechlade  Annual  Vintage  Rally &  Country Show + Craft Fair. \n4th/5th/6th  May 2024 \nLANGLEY FARM\,  LANGLEY LANE\,  CLANFIELD  OX18 2RZ \nOpening at 10.00 am all  days. \n  \nThis year include\, Classic Cars\,  Classic Motor Cycles\,  Commercial Vehicles\,  Collections\,  Miniature Steam\,  Tractors\, Model Tent\, Classic Caravans\,  Craft Tent. for  the children Fun Fair\, Bouncy Castle\, \, Animal Sanctuary\, Bees  and much more. \nThis year’s Ring events\, \nSAT:-     Angels for Animals Fun Dog Show\,   Britannia Majorettes \nSUN :-   Food Fairies for Street Dogs & Cats.  Fun Dog Show\,  Alvescot Ukulele Players \nMON:-\, Food Fairies for Street Dogs & Cats.  Fun Dog Show\,  Highworth Silver Band \nCars\, Tractors\, Motor Cycles\, Miniature Steam\, Commercial\, Military Vehicles\, Awning display\, Model Tent\, Craft Fair Model Tent. Funfair\, Trade Stands\,  Auto Jumble\,  Car Boot.  Food and Drink.  Raffle & Tombola all days. Parade ring\,  and much more.     Car Parking Free. \n  \nNow we have a bigger field we are able to offer Public `all weekend` CAMPING   £15.00 per night  include  free entry to the Rally go to web site or ask for a form.    \n  \nAdmission £6.00 Adults. £4.00 Concessions. Under 16`s Free (With paying adult.) \nCome along with the family and enjoy the day. \nWeb: Site  Lechlade Collectors Club |  e-mail  info@lechladecollectorsclub.co.uk  |  phone 01993843221 | Find us on Facebook
URL:https://www.abingdon.gov.uk/event/10th-lechlade-annual-vintage-rally-country-show
LOCATION:Uffington\, Fawler Road\, Uffington\, Oxfordshire\, SN7 7SD\, United Kingdom
ATTACH;FMTTYPE=image/jpeg:https://www.abingdon.gov.uk/wp-content/uploads/2024/01/P1000647-Copy-cars-scaled.jpg
END:VEVENT
END:VCALENDAR