BEGIN:VCALENDAR
VERSION:2.0
PRODID:-//Abingdon on Thames Town Council - ECPv6.15.18//NONSGML v1.0//EN
CALSCALE:GREGORIAN
METHOD:PUBLISH
X-WR-CALNAME:Abingdon on Thames Town Council
X-ORIGINAL-URL:https://www.abingdon.gov.uk
X-WR-CALDESC:Events for Abingdon on Thames Town Council
REFRESH-INTERVAL;VALUE=DURATION:PT1H
X-Robots-Tag:noindex
X-PUBLISHED-TTL:PT1H
BEGIN:VTIMEZONE
TZID:Europe/London
BEGIN:DAYLIGHT
TZOFFSETFROM:+0000
TZOFFSETTO:+0100
TZNAME:BST
DTSTART:20210328T010000
END:DAYLIGHT
BEGIN:STANDARD
TZOFFSETFROM:+0100
TZOFFSETTO:+0000
TZNAME:GMT
DTSTART:20211031T010000
END:STANDARD
BEGIN:DAYLIGHT
TZOFFSETFROM:+0000
TZOFFSETTO:+0100
TZNAME:BST
DTSTART:20220327T010000
END:DAYLIGHT
BEGIN:STANDARD
TZOFFSETFROM:+0100
TZOFFSETTO:+0000
TZNAME:GMT
DTSTART:20221030T010000
END:STANDARD
BEGIN:DAYLIGHT
TZOFFSETFROM:+0000
TZOFFSETTO:+0100
TZNAME:BST
DTSTART:20230326T010000
END:DAYLIGHT
BEGIN:STANDARD
TZOFFSETFROM:+0100
TZOFFSETTO:+0000
TZNAME:GMT
DTSTART:20231029T010000
END:STANDARD
END:VTIMEZONE
BEGIN:VEVENT
DTSTART;TZID=Europe/London:20220101T110000
DTEND;TZID=Europe/London:20220101T130000
DTSTAMP:20260423T092120
CREATED:20211222T125643Z
LAST-MODIFIED:20211222T125643Z
UID:18669-1641034800-1641042000@www.abingdon.gov.uk
SUMMARY:1556 Boundary Walk
DESCRIPTION:As usual there will be a great opportunity to work off any after-effects from Christmas and New Year’s Eve with an informative and sociable New Year’s Day guided walk round the town’s historic boundary. This year’s walk will be led by Councillor Helen Pighills and accompanied by a Town Crier. \nIt will start at 11.00 from the Market Place and usually takes about 2 hours. The finishing point is at Abingdon Lock\, but the route is never far from the Town Centre so those who need to finish earlier can easily do so. \nThe route is flat and dog and buggy-friendly\, but one stretch can be a little bit muddy sometimes\, so please wear sensible footwear – and dress according to the weather on the day!
URL:https://www.abingdon.gov.uk/event/1556-boundary-walk
LOCATION:Abingdon Market Place
CATEGORIES:Outdoors
ATTACH;FMTTYPE=image/jpeg:https://www.abingdon.gov.uk/wp-content/uploads/2021/05/default-crest.jpg
END:VEVENT
END:VCALENDAR