BEGIN:VCALENDAR
VERSION:2.0
PRODID:-//Abingdon on Thames Town Council - ECPv6.15.20//NONSGML v1.0//EN
CALSCALE:GREGORIAN
METHOD:PUBLISH
X-WR-CALNAME:Abingdon on Thames Town Council
X-ORIGINAL-URL:https://www.abingdon.gov.uk
X-WR-CALDESC:Events for Abingdon on Thames Town Council
REFRESH-INTERVAL;VALUE=DURATION:PT1H
X-Robots-Tag:noindex
X-PUBLISHED-TTL:PT1H
BEGIN:VTIMEZONE
TZID:Europe/London
BEGIN:DAYLIGHT
TZOFFSETFROM:+0000
TZOFFSETTO:+0100
TZNAME:BST
DTSTART:20200329T010000
END:DAYLIGHT
BEGIN:STANDARD
TZOFFSETFROM:+0100
TZOFFSETTO:+0000
TZNAME:GMT
DTSTART:20201025T010000
END:STANDARD
BEGIN:DAYLIGHT
TZOFFSETFROM:+0000
TZOFFSETTO:+0100
TZNAME:BST
DTSTART:20210328T010000
END:DAYLIGHT
BEGIN:STANDARD
TZOFFSETFROM:+0100
TZOFFSETTO:+0000
TZNAME:GMT
DTSTART:20211031T010000
END:STANDARD
BEGIN:DAYLIGHT
TZOFFSETFROM:+0000
TZOFFSETTO:+0100
TZNAME:BST
DTSTART:20220327T010000
END:DAYLIGHT
BEGIN:STANDARD
TZOFFSETFROM:+0100
TZOFFSETTO:+0000
TZNAME:GMT
DTSTART:20221030T010000
END:STANDARD
END:VTIMEZONE
BEGIN:VEVENT
DTSTART;TZID=Europe/London:20211118T194500
DTEND;TZID=Europe/London:20211118T210000
DTSTAMP:20260425T124603
CREATED:20211104T132943Z
LAST-MODIFIED:20211104T132943Z
UID:17946-1637264700-1637269200@www.abingdon.gov.uk
SUMMARY:AAAHS Meeting - Talk: 'Cholsey - a very special place' by Tony Rayner
DESCRIPTION:The talk will outline the history of Cholsey village from Saxon times until the present day and will feature some of its notable residents over the years. These include the world’s most published female author – Agatha Christie.\n\nImage: Winterbrook House: Agatha Christie’s House in Cholsey\n© “File:Winterbrook House-geograph-1848557-by-Bill-Nicholls.jpg”by Bill Nicholls is licensed under CC BY-SA 2.0\n\n\n\nAbout the speaker: Tony Rayner (Cholsey resident\, naturalist and historian) \nFollowing retirement from Oxfam twenty years ago\, Tony devoted much of his time to natural history interests and to writing. The writing includes over 100 nature articles for Cholsey’s magazine and three published books about Cholsey with a fourth in the pipeline. He is a former president of Reading & District Natural History Society and a former Chairman of Abingdon Naturalists’ Society. \n\nWe are very pleased to have resumed our meetings in the Northcourt Centre. For conditions of venue’s use see our website.\nVisitors are very welcome to attend meetings (suggested donation £3).\nIf you want to join the AAAHS\, there’s a Membership Form on our website\, or you can contact any of the committee members.
URL:https://www.abingdon.gov.uk/event/aaahs-meeting-talk-cholsey-a-very-special-place-by-tony-rayner
LOCATION:The Northcourt Centre\, Abingdon OX14 1NS\, Northcourt Road\,\, Abingdon\, OX14 1NS
CATEGORIES:Arts & Culture,Heritage,Sports & Leisure
ATTACH;FMTTYPE=image/jpeg:https://www.abingdon.gov.uk/wp-content/uploads/2021/11/AC_House_Cholsey.jpeg
ORGANIZER;CN="Abingdon Area Archaeology and History Society":MAILTO:publicity@aaahs.org.uk
END:VEVENT
END:VCALENDAR