BEGIN:VCALENDAR
VERSION:2.0
PRODID:-//Abingdon on Thames Town Council - ECPv6.15.18//NONSGML v1.0//EN
CALSCALE:GREGORIAN
METHOD:PUBLISH
X-WR-CALNAME:Abingdon on Thames Town Council
X-ORIGINAL-URL:https://www.abingdon.gov.uk
X-WR-CALDESC:Events for Abingdon on Thames Town Council
REFRESH-INTERVAL;VALUE=DURATION:PT1H
X-Robots-Tag:noindex
X-PUBLISHED-TTL:PT1H
BEGIN:VTIMEZONE
TZID:Europe/London
BEGIN:DAYLIGHT
TZOFFSETFROM:+0000
TZOFFSETTO:+0100
TZNAME:BST
DTSTART:20200329T010000
END:DAYLIGHT
BEGIN:STANDARD
TZOFFSETFROM:+0100
TZOFFSETTO:+0000
TZNAME:GMT
DTSTART:20201025T010000
END:STANDARD
BEGIN:DAYLIGHT
TZOFFSETFROM:+0000
TZOFFSETTO:+0100
TZNAME:BST
DTSTART:20210328T010000
END:DAYLIGHT
BEGIN:STANDARD
TZOFFSETFROM:+0100
TZOFFSETTO:+0000
TZNAME:GMT
DTSTART:20211031T010000
END:STANDARD
BEGIN:DAYLIGHT
TZOFFSETFROM:+0000
TZOFFSETTO:+0100
TZNAME:BST
DTSTART:20220327T010000
END:DAYLIGHT
BEGIN:STANDARD
TZOFFSETFROM:+0100
TZOFFSETTO:+0000
TZNAME:GMT
DTSTART:20221030T010000
END:STANDARD
END:VTIMEZONE
BEGIN:VEVENT
DTSTART;TZID=Europe/London:20210731T100000
DTEND;TZID=Europe/London:20210731T150000
DTSTAMP:20260422T220417
CREATED:20210730T101544Z
LAST-MODIFIED:20210730T101544Z
UID:15710-1627725600-1627743600@www.abingdon.gov.uk
SUMMARY:ABBEY BUILDINGS - BIG SPLASH OPEN DAY
DESCRIPTION:Come help us to reopen these historic medieval buildings to the public with music\, dancing\, drama\, drinks – and the Mayor Cllr Cheryl Briggs.
URL:https://www.abingdon.gov.uk/event/abbey-buildings-big-splash-open-day
LOCATION:Abingdon Abbey Buildings\, 12 Checker Walk\, Abingdon-on-Thames\, OX14 3JB\, United Kingdom
CATEGORIES:Arts & Culture,Heritage
ATTACH;FMTTYPE=image/jpeg:https://www.abingdon.gov.uk/wp-content/uploads/2021/07/Big-Splash.jpg
END:VEVENT
END:VCALENDAR