BEGIN:VCALENDAR
VERSION:2.0
PRODID:-//Abingdon on Thames Town Council - ECPv6.15.18//NONSGML v1.0//EN
CALSCALE:GREGORIAN
METHOD:PUBLISH
X-WR-CALNAME:Abingdon on Thames Town Council
X-ORIGINAL-URL:https://www.abingdon.gov.uk
X-WR-CALDESC:Events for Abingdon on Thames Town Council
REFRESH-INTERVAL;VALUE=DURATION:PT1H
X-Robots-Tag:noindex
X-PUBLISHED-TTL:PT1H
BEGIN:VTIMEZONE
TZID:Europe/London
BEGIN:DAYLIGHT
TZOFFSETFROM:+0000
TZOFFSETTO:+0100
TZNAME:BST
DTSTART:20230326T010000
END:DAYLIGHT
BEGIN:STANDARD
TZOFFSETFROM:+0100
TZOFFSETTO:+0000
TZNAME:GMT
DTSTART:20231029T010000
END:STANDARD
BEGIN:DAYLIGHT
TZOFFSETFROM:+0000
TZOFFSETTO:+0100
TZNAME:BST
DTSTART:20240331T010000
END:DAYLIGHT
BEGIN:STANDARD
TZOFFSETFROM:+0100
TZOFFSETTO:+0000
TZNAME:GMT
DTSTART:20241027T010000
END:STANDARD
BEGIN:DAYLIGHT
TZOFFSETFROM:+0000
TZOFFSETTO:+0100
TZNAME:BST
DTSTART:20250330T010000
END:DAYLIGHT
BEGIN:STANDARD
TZOFFSETFROM:+0100
TZOFFSETTO:+0000
TZNAME:GMT
DTSTART:20251026T010000
END:STANDARD
END:VTIMEZONE
BEGIN:VEVENT
DTSTART;TZID=Europe/London:20240520T100000
DTEND;TZID=Europe/London:20240527T170000
DTSTAMP:20260423T084930
CREATED:20240501T081829Z
LAST-MODIFIED:20240501T081829Z
UID:48810-1716199200-1716829200@www.abingdon.gov.uk
SUMMARY:Abbey Group Artweeks Exhibition
DESCRIPTION:5 local artists showcasing: Glass\, collage\, cyanotypes\, painting\, drawing and jewellery in beautiful surroundings. Fully accessible\, free entry. \nArtworks\, prints\, cards and gifts!
URL:https://www.abingdon.gov.uk/event/abbey-group-artweeks-exhibition-3
LOCATION:St Nicolas Church\, Market Place\, Abingdon-on-Thames\, OX14 3JL\, United Kingdom
CATEGORIES:Arts & Culture
ATTACH;FMTTYPE=image/jpeg:https://www.abingdon.gov.uk/wp-content/uploads/2024/04/Margaret-2-scaled.jpeg
ORGANIZER;CN="Abbey Group":MAILTO:info@naturallearningoxford.co.uk
END:VEVENT
END:VCALENDAR