BEGIN:VCALENDAR
VERSION:2.0
PRODID:-//Abingdon on Thames Town Council - ECPv6.15.18//NONSGML v1.0//EN
CALSCALE:GREGORIAN
METHOD:PUBLISH
X-WR-CALNAME:Abingdon on Thames Town Council
X-ORIGINAL-URL:https://www.abingdon.gov.uk
X-WR-CALDESC:Events for Abingdon on Thames Town Council
REFRESH-INTERVAL;VALUE=DURATION:PT1H
X-Robots-Tag:noindex
X-PUBLISHED-TTL:PT1H
BEGIN:VTIMEZONE
TZID:Europe/London
BEGIN:DAYLIGHT
TZOFFSETFROM:+0000
TZOFFSETTO:+0100
TZNAME:BST
DTSTART:20200329T010000
END:DAYLIGHT
BEGIN:STANDARD
TZOFFSETFROM:+0100
TZOFFSETTO:+0000
TZNAME:GMT
DTSTART:20201025T010000
END:STANDARD
BEGIN:DAYLIGHT
TZOFFSETFROM:+0000
TZOFFSETTO:+0100
TZNAME:BST
DTSTART:20210328T010000
END:DAYLIGHT
BEGIN:STANDARD
TZOFFSETFROM:+0100
TZOFFSETTO:+0000
TZNAME:GMT
DTSTART:20211031T010000
END:STANDARD
BEGIN:DAYLIGHT
TZOFFSETFROM:+0000
TZOFFSETTO:+0100
TZNAME:BST
DTSTART:20220327T010000
END:DAYLIGHT
BEGIN:STANDARD
TZOFFSETFROM:+0100
TZOFFSETTO:+0000
TZNAME:GMT
DTSTART:20221030T010000
END:STANDARD
END:VTIMEZONE
BEGIN:VEVENT
DTSTART;TZID=Europe/London:20210918T100000
DTEND;TZID=Europe/London:20210918T160000
DTSTAMP:20260423T170204
CREATED:20210901T081252Z
LAST-MODIFIED:20210901T081252Z
UID:16282-1631959200-1631980800@www.abingdon.gov.uk
SUMMARY:Abingdon on Film - Heritage Weekend event
DESCRIPTION:As part of Abingdon’s Heritage Weekend 2021 a selection of heritage films made in or about Abingdon will be showing on a continuous loop in the Roysse Room of the Guildhall. The films will include: \n“A Tour of the Abingdon Almshouses in St Helen’s Churchyard”: a film by Alastair Fear and Jackie Smith\, bringing the rare and fascinating almshouses in St Helens Churchyard to life. \n“The Flying Shingle” – Ken Miles’ MG R2 Special”: a film by Callum John and Mike Gould\, centring around the struggle between maverick racing driver Ken Miles\, sports car maker Carroll Shelby and the executives of the Ford Motor Company to develop the world-beating GT40. Birmingham-born Ken Miles emigrated to California to run a garage specialising in MG. He achieved success in a car of his own creation using an MG engine and other components. Known as the ‘Flying Shingle’ thanks to its exceptionally low profile\, it survives to this day and still takes part in historic car races. \n“A Bitter End  : a film by the Abingdon Film Unit at Abingdon School\, following the story of brewing in Abingdon. \n“The End of the Line : a film by the Abingdon Film Unit at Abingdon School\,  showing the final years of the railway in Abingdon. \nAbingdon-on-Thames 2021: a contemporary account of the community here in Abingdon\, commissioned by the Town Council\, highlighting some of the work that goes on to make the town a good place for all to live. \nDrop in at any time – the last showing will start around 3.30 –  but do also take time to visit the displays in the other historic Guildhall rooms.
URL:https://www.abingdon.gov.uk/event/abingdon-on-film-heritage-weekend-event
LOCATION:Abingdon Guildhall\, Abbey Close\, Abingdon\, OX14 3JD\, United Kingdom
CATEGORIES:Heritage
ATTACH;FMTTYPE=image/jpeg:https://www.abingdon.gov.uk/wp-content/uploads/2021/08/MG-Shoot-1-resized.jpg
END:VEVENT
END:VCALENDAR