BEGIN:VCALENDAR
VERSION:2.0
PRODID:-//Abingdon on Thames Town Council - ECPv6.15.18//NONSGML v1.0//EN
CALSCALE:GREGORIAN
METHOD:PUBLISH
X-WR-CALNAME:Abingdon on Thames Town Council
X-ORIGINAL-URL:https://www.abingdon.gov.uk
X-WR-CALDESC:Events for Abingdon on Thames Town Council
REFRESH-INTERVAL;VALUE=DURATION:PT1H
X-Robots-Tag:noindex
X-PUBLISHED-TTL:PT1H
BEGIN:VTIMEZONE
TZID:Europe/London
BEGIN:DAYLIGHT
TZOFFSETFROM:+0000
TZOFFSETTO:+0100
TZNAME:BST
DTSTART:20240331T010000
END:DAYLIGHT
BEGIN:STANDARD
TZOFFSETFROM:+0100
TZOFFSETTO:+0000
TZNAME:GMT
DTSTART:20241027T010000
END:STANDARD
BEGIN:DAYLIGHT
TZOFFSETFROM:+0000
TZOFFSETTO:+0100
TZNAME:BST
DTSTART:20250330T010000
END:DAYLIGHT
BEGIN:STANDARD
TZOFFSETFROM:+0100
TZOFFSETTO:+0000
TZNAME:GMT
DTSTART:20251026T010000
END:STANDARD
BEGIN:DAYLIGHT
TZOFFSETFROM:+0000
TZOFFSETTO:+0100
TZNAME:BST
DTSTART:20260329T010000
END:DAYLIGHT
BEGIN:STANDARD
TZOFFSETFROM:+0100
TZOFFSETTO:+0000
TZNAME:GMT
DTSTART:20261025T010000
END:STANDARD
END:VTIMEZONE
BEGIN:VEVENT
DTSTART;TZID=Europe/London:20250409T193000
DTEND;TZID=Europe/London:20250409T220000
DTSTAMP:20260422T194706
CREATED:20250311T091324Z
LAST-MODIFIED:20250311T091324Z
UID:10015555-1744227000-1744236000@www.abingdon.gov.uk
SUMMARY:Abingdon Operatic Society presents 'Charlie and the Chocolate Factory'
DESCRIPTION:In April 2025\, Abingdon Operatic Society will be debuting ‘Charlie and the Chocolate Factory’ at the Amey Theatre in Abingdon.  This promises to be a magical week for cast\, crew and audience\, so make sure you grab your golden ticket! \n‘Charlie and the Chocolate Factory’ is a musical based on the 1964 children’s novel of the same name by Roald Dahl\, with book by David Greig\, music by Marc Shaiman and lyrics by Marc Shaiman and Scott Wittman.  As most of us know\, it tells the story of Charlie Bucket and his desperate search for the golden ticket that will enable him to enter the secretive Chocolate Factory of Mr Willy Wonka. \nThe show originally opened at the Theatre Royal\, Drury Lane in June 2013 and almost immediately broke the West End’s record for ticket sales – a record it still holds.  It ran until 2017\, when a reworked production moved to Broadway.  It is this Broadway production that was licensed for international touring productions and\, later\, amateur theatre. \nToday\, there are professional tours across the US\, UK and Australia\, but at AOS we have been lucky enough to fit our production between tours\, which allows us to create a brand new production for Abingdon! \nPerformances are from Tuesday 8th – Saturday 12th April at 7.30pm\, with an additional 2.30pm Saturday matinee\, at the Amey Theatre\, Abingdon\, OX14 1DE. \nTickets can be purchased at www.ticketsource.co.uk/abingdonoperatic
URL:https://www.abingdon.gov.uk/event/abingdon-operatic-society-presents-charlie-and-the-chocolate-factory/2025-04-09
LOCATION:Amey Theatre\, Abingdon School\, Abingdon School Park Road\, Abingdon\, OX14 1DE\, United Kingdom
CATEGORIES:Arts & Culture
ATTACH;FMTTYPE=image/png:https://www.abingdon.gov.uk/wp-content/uploads/2025/03/CATCF-Flyer_1.png
ORGANIZER;CN="Abingdon Operatic Society":MAILTO:tickets@abingdonoperatic.co.uk
END:VEVENT
END:VCALENDAR