BEGIN:VCALENDAR
VERSION:2.0
PRODID:-//Abingdon on Thames Town Council - ECPv6.15.18//NONSGML v1.0//EN
CALSCALE:GREGORIAN
METHOD:PUBLISH
X-WR-CALNAME:Abingdon on Thames Town Council
X-ORIGINAL-URL:https://www.abingdon.gov.uk
X-WR-CALDESC:Events for Abingdon on Thames Town Council
REFRESH-INTERVAL;VALUE=DURATION:PT1H
X-Robots-Tag:noindex
X-PUBLISHED-TTL:PT1H
BEGIN:VTIMEZONE
TZID:Europe/London
BEGIN:DAYLIGHT
TZOFFSETFROM:+0000
TZOFFSETTO:+0100
TZNAME:BST
DTSTART:20200329T010000
END:DAYLIGHT
BEGIN:STANDARD
TZOFFSETFROM:+0100
TZOFFSETTO:+0000
TZNAME:GMT
DTSTART:20201025T010000
END:STANDARD
BEGIN:DAYLIGHT
TZOFFSETFROM:+0000
TZOFFSETTO:+0100
TZNAME:BST
DTSTART:20210328T010000
END:DAYLIGHT
BEGIN:STANDARD
TZOFFSETFROM:+0100
TZOFFSETTO:+0000
TZNAME:GMT
DTSTART:20211031T010000
END:STANDARD
BEGIN:DAYLIGHT
TZOFFSETFROM:+0000
TZOFFSETTO:+0100
TZNAME:BST
DTSTART:20220327T010000
END:DAYLIGHT
BEGIN:STANDARD
TZOFFSETFROM:+0100
TZOFFSETTO:+0000
TZNAME:GMT
DTSTART:20221030T010000
END:STANDARD
END:VTIMEZONE
BEGIN:VEVENT
DTSTART;TZID=Europe/London:20211107T103000
DTEND;TZID=Europe/London:20211107T160000
DTSTAMP:20260423T140041
CREATED:20251006T205205Z
LAST-MODIFIED:20251006T205205Z
UID:10010998-1636281000-1636300800@www.abingdon.gov.uk
SUMMARY:Abingdon Traditional Craft Fair
DESCRIPTION:We are delighted to announce the return of the Abingdon Traditional Craft Fair – organised annually by the Friends of Abingdon Abbey Buildings Trust. All profits are used for the upkeep of the lovely\, listed Abbey Buildings. \nFrom vintage to quirky\, fun to fabulous\, the Fair returns with stylish\, unique and curated Christmas gifts for everyone. There will be some great new stalls\, alongside many familiar faces.\n \nIn the past two years we have all got used to having a little more space around us and we know this is still the safest way to shop. We will therefore be managing numbers by having timed entries to achieve a regular flow of visitors. \nWe strongly advise that you purchase your ticket online in advance to guarantee your ability to enter at the time you arrive. \nTickets will still be available at the door but\, if an hour is already fully booked online\, we may have to ask people who turn up without pre-ordering to wait until the next hour. \nTo book your entry time and buy tickets please go to http://www.abingdoncraftfair.org.uk/buy-tickets/
URL:https://www.abingdon.gov.uk/event/abingdon-traditional-craft-fair/2021-11-07
LOCATION:Abingdon Abbey Buildings\, 12 Checker Walk\, Abingdon-on-Thames\, OX14 3JB\, United Kingdom
CATEGORIES:Shopping
ATTACH;FMTTYPE=image/png:https://www.abingdon.gov.uk/wp-content/uploads/2021/10/Craft-Fair-2021-crop.png
END:VEVENT
END:VCALENDAR