BEGIN:VCALENDAR
VERSION:2.0
PRODID:-//Abingdon on Thames Town Council - ECPv6.15.18//NONSGML v1.0//EN
CALSCALE:GREGORIAN
METHOD:PUBLISH
X-WR-CALNAME:Abingdon on Thames Town Council
X-ORIGINAL-URL:https://www.abingdon.gov.uk
X-WR-CALDESC:Events for Abingdon on Thames Town Council
REFRESH-INTERVAL;VALUE=DURATION:PT1H
X-Robots-Tag:noindex
X-PUBLISHED-TTL:PT1H
BEGIN:VTIMEZONE
TZID:Europe/London
BEGIN:DAYLIGHT
TZOFFSETFROM:+0000
TZOFFSETTO:+0100
TZNAME:BST
DTSTART:20230326T010000
END:DAYLIGHT
BEGIN:STANDARD
TZOFFSETFROM:+0100
TZOFFSETTO:+0000
TZNAME:GMT
DTSTART:20231029T010000
END:STANDARD
BEGIN:DAYLIGHT
TZOFFSETFROM:+0000
TZOFFSETTO:+0100
TZNAME:BST
DTSTART:20240331T010000
END:DAYLIGHT
BEGIN:STANDARD
TZOFFSETFROM:+0100
TZOFFSETTO:+0000
TZNAME:GMT
DTSTART:20241027T010000
END:STANDARD
BEGIN:DAYLIGHT
TZOFFSETFROM:+0000
TZOFFSETTO:+0100
TZNAME:BST
DTSTART:20250330T010000
END:DAYLIGHT
BEGIN:STANDARD
TZOFFSETFROM:+0100
TZOFFSETTO:+0000
TZNAME:GMT
DTSTART:20251026T010000
END:STANDARD
END:VTIMEZONE
BEGIN:VEVENT
DTSTART;TZID=Europe/London:20240430T190000
DTEND;TZID=Europe/London:20240430T210000
DTSTAMP:20260423T061437
CREATED:20240426T075334Z
LAST-MODIFIED:20240426T075334Z
UID:48698-1714503600-1714510800@www.abingdon.gov.uk
SUMMARY:AED Training course
DESCRIPTION:Abingdon Lions are please to host our first AED training session.\nThe session is complete FREE and with the help of South Central Air Ambulance we are able to offer a unique experience giving you confidence in an emergency.\nFor more information contact: Abingdon.lions@yahoo.com
URL:https://www.abingdon.gov.uk/event/aed-training-course
LOCATION:Unit 24\, Bury Street Precinct – Abingdon Civic Society shop\, Unit 24\, Bury Street precinct\, Abingdon\, Oxfordshire\, OX14 3QT\, United Kingdom
ATTACH;FMTTYPE=image/jpeg:https://www.abingdon.gov.uk/wp-content/uploads/2024/04/IMG_9157.jpeg
END:VEVENT
END:VCALENDAR