BEGIN:VCALENDAR
VERSION:2.0
PRODID:-//Abingdon on Thames Town Council - ECPv6.15.18//NONSGML v1.0//EN
CALSCALE:GREGORIAN
METHOD:PUBLISH
X-WR-CALNAME:Abingdon on Thames Town Council
X-ORIGINAL-URL:https://www.abingdon.gov.uk
X-WR-CALDESC:Events for Abingdon on Thames Town Council
REFRESH-INTERVAL;VALUE=DURATION:PT1H
X-Robots-Tag:noindex
X-PUBLISHED-TTL:PT1H
BEGIN:VTIMEZONE
TZID:Europe/London
BEGIN:DAYLIGHT
TZOFFSETFROM:+0000
TZOFFSETTO:+0100
TZNAME:BST
DTSTART:20200329T010000
END:DAYLIGHT
BEGIN:STANDARD
TZOFFSETFROM:+0100
TZOFFSETTO:+0000
TZNAME:GMT
DTSTART:20201025T010000
END:STANDARD
BEGIN:DAYLIGHT
TZOFFSETFROM:+0000
TZOFFSETTO:+0100
TZNAME:BST
DTSTART:20210328T010000
END:DAYLIGHT
BEGIN:STANDARD
TZOFFSETFROM:+0100
TZOFFSETTO:+0000
TZNAME:GMT
DTSTART:20211031T010000
END:STANDARD
BEGIN:DAYLIGHT
TZOFFSETFROM:+0000
TZOFFSETTO:+0100
TZNAME:BST
DTSTART:20220327T010000
END:DAYLIGHT
BEGIN:STANDARD
TZOFFSETFROM:+0100
TZOFFSETTO:+0000
TZNAME:GMT
DTSTART:20221030T010000
END:STANDARD
END:VTIMEZONE
BEGIN:VEVENT
DTSTART;TZID=Europe/London:20210801T090000
DTEND;TZID=Europe/London:20210801T150000
DTSTAMP:20260422T233252
CREATED:20210803T080941Z
LAST-MODIFIED:20210803T080941Z
UID:15729-1627808400-1627830000@www.abingdon.gov.uk
SUMMARY:ANTIQUES FAIR (Drayton)
DESCRIPTION:Antiques Fair\, lots of stalls\, car parking\, refreshments (bacon roll a speciality!)\, just 50p entry\, 9am to 3pm\, Sunday Aug 1st.      [Village Hall\, Lockway\, Drayton\, OX14 4LF]
URL:https://www.abingdon.gov.uk/event/antiques-fair-drayton
LOCATION:Drayton Village Hall\, Lockway\, Drayton\, OX14 4LF\, United Kingdom
CATEGORIES:Shopping
ATTACH;FMTTYPE=image/jpeg:https://www.abingdon.gov.uk/wp-content/uploads/2021/05/default-crest.jpg
ORGANIZER;CN="Elsie's Antiques":MAILTO:elsiesantques2019@gmail.com
END:VEVENT
END:VCALENDAR