BEGIN:VCALENDAR
VERSION:2.0
PRODID:-//Abingdon on Thames Town Council - ECPv6.15.18//NONSGML v1.0//EN
CALSCALE:GREGORIAN
METHOD:PUBLISH
X-WR-CALNAME:Abingdon on Thames Town Council
X-ORIGINAL-URL:https://www.abingdon.gov.uk
X-WR-CALDESC:Events for Abingdon on Thames Town Council
REFRESH-INTERVAL;VALUE=DURATION:PT1H
X-Robots-Tag:noindex
X-PUBLISHED-TTL:PT1H
BEGIN:VTIMEZONE
TZID:Europe/London
BEGIN:DAYLIGHT
TZOFFSETFROM:+0000
TZOFFSETTO:+0100
TZNAME:BST
DTSTART:20220327T010000
END:DAYLIGHT
BEGIN:STANDARD
TZOFFSETFROM:+0100
TZOFFSETTO:+0000
TZNAME:GMT
DTSTART:20221030T010000
END:STANDARD
BEGIN:DAYLIGHT
TZOFFSETFROM:+0000
TZOFFSETTO:+0100
TZNAME:BST
DTSTART:20230326T010000
END:DAYLIGHT
BEGIN:STANDARD
TZOFFSETFROM:+0100
TZOFFSETTO:+0000
TZNAME:GMT
DTSTART:20231029T010000
END:STANDARD
BEGIN:DAYLIGHT
TZOFFSETFROM:+0000
TZOFFSETTO:+0100
TZNAME:BST
DTSTART:20240331T010000
END:DAYLIGHT
BEGIN:STANDARD
TZOFFSETFROM:+0100
TZOFFSETTO:+0000
TZNAME:GMT
DTSTART:20241027T010000
END:STANDARD
END:VTIMEZONE
BEGIN:VEVENT
DTSTART;TZID=Europe/London:20230620T193000
DTEND;TZID=Europe/London:20230620T210000
DTSTAMP:20260422T233638
CREATED:20230605T095341Z
LAST-MODIFIED:20230605T095341Z
UID:31289-1687289400-1687294800@www.abingdon.gov.uk
SUMMARY:ATOM Society Talk: Fusion\, Powering the Future
DESCRIPTION:ATOM Society brings you a highly topical talk about energy from nuclear fusion by Chris Warrick at 19:30 on Tuesday (new weekday this year!) 20th June 2023 in Abingdon United Football Club\, Northcourt Rd\, OX14 1PL\, Abingdon. \nFusing hydrogen atoms together has the potential to provide a near-limitless\, safe\, and clean source of carbon-free energy. This has been a scientific “Holy Grail” since the 1950s but still has a long way to go.  Recent results from US and UK scientists have been encouraging; researchers confirmed they have overcome a major barrier – producing more energy from a fusion experiment than was put in. \nChris is a physics-trained technical consultant\, passionate about driving the transition to clean energy. Earlier in his career\, he worked at the Culham Centre for Fusion Energy. \nFor more information\, please see atomsociety.org.uk.
URL:https://www.abingdon.gov.uk/event/atom-society-talk-fusion-powering-the-future
LOCATION:Abingdon United Football Club\, Northcourt Road\, Abingdon\, OX14 1PL\, United Kingdom
CATEGORIES:Arts & Culture
ATTACH;FMTTYPE=image/jpeg:https://www.abingdon.gov.uk/wp-content/uploads/2023/06/jet-plasma-scaled-230620.jpg
ORGANIZER;CN="ATOM Society":MAILTO:sec.atomsociety@gmail.com
END:VEVENT
END:VCALENDAR