BEGIN:VCALENDAR
VERSION:2.0
PRODID:-//Abingdon on Thames Town Council - ECPv6.15.18//NONSGML v1.0//EN
CALSCALE:GREGORIAN
METHOD:PUBLISH
X-WR-CALNAME:Abingdon on Thames Town Council
X-ORIGINAL-URL:https://www.abingdon.gov.uk
X-WR-CALDESC:Events for Abingdon on Thames Town Council
REFRESH-INTERVAL;VALUE=DURATION:PT1H
X-Robots-Tag:noindex
X-PUBLISHED-TTL:PT1H
BEGIN:VTIMEZONE
TZID:Europe/London
BEGIN:DAYLIGHT
TZOFFSETFROM:+0000
TZOFFSETTO:+0100
TZNAME:BST
DTSTART:20230326T010000
END:DAYLIGHT
BEGIN:STANDARD
TZOFFSETFROM:+0100
TZOFFSETTO:+0000
TZNAME:GMT
DTSTART:20231029T010000
END:STANDARD
BEGIN:DAYLIGHT
TZOFFSETFROM:+0000
TZOFFSETTO:+0100
TZNAME:BST
DTSTART:20240331T010000
END:DAYLIGHT
BEGIN:STANDARD
TZOFFSETFROM:+0100
TZOFFSETTO:+0000
TZNAME:GMT
DTSTART:20241027T010000
END:STANDARD
BEGIN:DAYLIGHT
TZOFFSETFROM:+0000
TZOFFSETTO:+0100
TZNAME:BST
DTSTART:20250330T010000
END:DAYLIGHT
BEGIN:STANDARD
TZOFFSETFROM:+0100
TZOFFSETTO:+0000
TZNAME:GMT
DTSTART:20251026T010000
END:STANDARD
END:VTIMEZONE
BEGIN:VEVENT
DTSTART;TZID=Europe/London:20240418T180000
DTEND;TZID=Europe/London:20240418T190000
DTSTAMP:20260422T172928
CREATED:20240327T094401Z
LAST-MODIFIED:20240327T094401Z
UID:47323-1713463200-1713466800@www.abingdon.gov.uk
SUMMARY:Author event - Peter Tickler
DESCRIPTION:Join us for the launch of Peter Tickler’s brand new book The Tickler’s Jam Murders\, combining crime fiction with his own family history. Including audience Q&A and signed copies for sale. Tickets £2 inc. free drink available from Abingdon Library on 01235 520374 or email abingdon.library@oxfordshire.gov.uk
URL:https://www.abingdon.gov.uk/event/author-event-peter-tickler
LOCATION:Abingdon Library\, The Charter\, Abingdon\, OX14 3LY\, United Kingdom
CATEGORIES:Arts & Culture
ATTACH;FMTTYPE=image/jpeg:https://www.abingdon.gov.uk/wp-content/uploads/2024/03/Peter-Tickler-Facebook-Post.jpg
ORGANIZER;CN="Abingdon Library":MAILTO:abingdon.library@oxfordshire.gov.uk
END:VEVENT
END:VCALENDAR