BEGIN:VCALENDAR
VERSION:2.0
PRODID:-//Abingdon on Thames Town Council - ECPv6.15.18//NONSGML v1.0//EN
CALSCALE:GREGORIAN
METHOD:PUBLISH
X-WR-CALNAME:Abingdon on Thames Town Council
X-ORIGINAL-URL:https://www.abingdon.gov.uk
X-WR-CALDESC:Events for Abingdon on Thames Town Council
REFRESH-INTERVAL;VALUE=DURATION:PT1H
X-Robots-Tag:noindex
X-PUBLISHED-TTL:PT1H
BEGIN:VTIMEZONE
TZID:Europe/London
BEGIN:DAYLIGHT
TZOFFSETFROM:+0000
TZOFFSETTO:+0100
TZNAME:BST
DTSTART:20200329T010000
END:DAYLIGHT
BEGIN:STANDARD
TZOFFSETFROM:+0100
TZOFFSETTO:+0000
TZNAME:GMT
DTSTART:20201025T010000
END:STANDARD
BEGIN:DAYLIGHT
TZOFFSETFROM:+0000
TZOFFSETTO:+0100
TZNAME:BST
DTSTART:20210328T010000
END:DAYLIGHT
BEGIN:STANDARD
TZOFFSETFROM:+0100
TZOFFSETTO:+0000
TZNAME:GMT
DTSTART:20211031T010000
END:STANDARD
BEGIN:DAYLIGHT
TZOFFSETFROM:+0000
TZOFFSETTO:+0100
TZNAME:BST
DTSTART:20220327T010000
END:DAYLIGHT
BEGIN:STANDARD
TZOFFSETFROM:+0100
TZOFFSETTO:+0000
TZNAME:GMT
DTSTART:20221030T010000
END:STANDARD
END:VTIMEZONE
BEGIN:VEVENT
DTSTART;TZID=Europe/London:20211023T100000
DTEND;TZID=Europe/London:20211023T150000
DTSTAMP:20260424T002449
CREATED:20211021T075734Z
LAST-MODIFIED:20211021T075734Z
UID:17736-1634983200-1635001200@www.abingdon.gov.uk
SUMMARY:Autumn Celebration - The Mayor's Charities
DESCRIPTION:Earlier this year Abingdon Mayor\, Cllr Cheryl Briggs\, nominated Abingdon DAMASCUS Youth Project (ADYP) and Yellow Submarine as her chosen charities. Both local to Abingdon\, these charities both strive for equality\, diversity and inclusion within our community; ADYP empowering young people challenged by adverse social circumstances to create positive change and Yellow Submarine supporting people with learning disabilities and autism to live life to the full.\nThe Mayor’s Charities are holding aa ‘Autumn Celebration’ in Abingdon market square on Saturday 23rd October 2021\, the first of a few fundraising events. The goal of this event is to increase awareness of the charities and raise money! The event will be for everyone in the community to enjoy; from raffles to games for kids to a cycling challenge kindly provided by Abingdon Anytime Fitness! There will be something for everyone to revel in\, all whilst raising money for two great causes.
URL:https://www.abingdon.gov.uk/event/autumn-celebration-the-mayors-charities
LOCATION:Abingdon Market Place
ATTACH;FMTTYPE=image/png:https://www.abingdon.gov.uk/wp-content/uploads/2021/10/Supporting-the-mayors-charities.png
ORGANIZER;CN="The Mayor's Charities":MAILTO:ella@yellowsubmarine.org.uk
END:VEVENT
END:VCALENDAR