BEGIN:VCALENDAR
VERSION:2.0
PRODID:-//Abingdon on Thames Town Council - ECPv6.15.18//NONSGML v1.0//EN
CALSCALE:GREGORIAN
METHOD:PUBLISH
X-WR-CALNAME:Abingdon on Thames Town Council
X-ORIGINAL-URL:https://www.abingdon.gov.uk
X-WR-CALDESC:Events for Abingdon on Thames Town Council
REFRESH-INTERVAL;VALUE=DURATION:PT1H
X-Robots-Tag:noindex
X-PUBLISHED-TTL:PT1H
BEGIN:VTIMEZONE
TZID:Europe/London
BEGIN:DAYLIGHT
TZOFFSETFROM:+0000
TZOFFSETTO:+0100
TZNAME:BST
DTSTART:20230326T010000
END:DAYLIGHT
BEGIN:STANDARD
TZOFFSETFROM:+0100
TZOFFSETTO:+0000
TZNAME:GMT
DTSTART:20231029T010000
END:STANDARD
BEGIN:DAYLIGHT
TZOFFSETFROM:+0000
TZOFFSETTO:+0100
TZNAME:BST
DTSTART:20240331T010000
END:DAYLIGHT
BEGIN:STANDARD
TZOFFSETFROM:+0100
TZOFFSETTO:+0000
TZNAME:GMT
DTSTART:20241027T010000
END:STANDARD
BEGIN:DAYLIGHT
TZOFFSETFROM:+0000
TZOFFSETTO:+0100
TZNAME:BST
DTSTART:20250330T010000
END:DAYLIGHT
BEGIN:STANDARD
TZOFFSETFROM:+0100
TZOFFSETTO:+0000
TZNAME:GMT
DTSTART:20251026T010000
END:STANDARD
END:VTIMEZONE
BEGIN:VEVENT
DTSTART;TZID=Europe/London:20240222T190000
DTEND;TZID=Europe/London:20240222T223000
DTSTAMP:20260423T013242
CREATED:20231120T163700Z
LAST-MODIFIED:20231120T163700Z
UID:43644-1708628400-1708641000@www.abingdon.gov.uk
SUMMARY:Belinda O'Hooley
DESCRIPTION:We are very pleased to welcome the very entertaining Belinda O’Hooley to The Unicorn Theatre. \nBelinda O’Hooley is an exceptionally gifted pianist\, singer\, songwriter\, and composer who has become renowned for her highly individual\, emotional\, yet sensitive musicality. She is also one half of the much-loved Yorkshire folk duo O’Hooley & Tidow alongside her wife Heidi Tidow; together described by The Guardian as ‘exceptional songwriters.’ The duo have been propelled into newfound fame for penning the theme tune to Sally Wainwright’s hit BBC1/HBO drama ‘Gentleman Jack’\, earning them global admiration\, an acting role for Belinda on the iconic TV drama Happy Valley\, Radio 4 Woman’s Hour and concerts that sell out months in advance. \nBelinda is also known for her inventive\, minimalist\, sometimes flamboyant accompanying of folk luminaries including Rufus Wainwright\, Nic Jones\, Jackie Oates and the Mercury nominated; Rachel Unthank and The Winterset. \nHer solo album ‘Inversions’ showcases Belinda’s abilities as a composer and pianist with many of the piano pieces inspired by the songs and tunes her father inherited from a long line of male musicians in the hills of the West coast of rural Ireland. Belinda: the first woman in her family to reclaim the tradition\, has found the freedom to express the music of her ancestors in her very own\, unconventional way\, evolving and migrating into some-thing you could describe as an inversion: a reversal of the norm. \nBelinda O’Hooley is an artist truly at one with her instrument. \n‘Goose-pimples\, hair standing on end\, pin-drop silence\, all of this and so\, so much more. The applause as she took her seat behind her piano once again\, was deafening and lengthy. Pure love lapping against the stage.’ Fatea \n‘Exquisite’ * * * * * The Guardian \n‘O’Hooley stops the whole of St George’s in its tracks.’ Bristol 24/7 \n‘Defiant\, robust\, northern\, poetical\, political folk music for the times we live in.’\nThe Independent \n‘Dense\, complex\, beautifully performed.’ * * * * Songlines \n 
URL:https://www.abingdon.gov.uk/event/belinda-ohooley
LOCATION:Unicorn Theatre\, Thames Street\, Abingdon\, Thames Street\, Abingdon\, OX14 3HZ\, United Kingdom
CATEGORIES:Arts & Culture
ATTACH;FMTTYPE=image/jpeg:https://www.abingdon.gov.uk/wp-content/uploads/2023/11/Belinda-OHooley-Photo-5-scaled.jpg
ORGANIZER;CN="Music At The Unicorn":MAILTO:info@musicattheunicorn.org.uk
END:VEVENT
END:VCALENDAR