BEGIN:VCALENDAR
VERSION:2.0
PRODID:-//Abingdon on Thames Town Council - ECPv6.15.18//NONSGML v1.0//EN
CALSCALE:GREGORIAN
METHOD:PUBLISH
X-WR-CALNAME:Abingdon on Thames Town Council
X-ORIGINAL-URL:https://www.abingdon.gov.uk
X-WR-CALDESC:Events for Abingdon on Thames Town Council
REFRESH-INTERVAL;VALUE=DURATION:PT1H
X-Robots-Tag:noindex
X-PUBLISHED-TTL:PT1H
BEGIN:VTIMEZONE
TZID:Europe/London
BEGIN:DAYLIGHT
TZOFFSETFROM:+0000
TZOFFSETTO:+0100
TZNAME:BST
DTSTART:20230326T010000
END:DAYLIGHT
BEGIN:STANDARD
TZOFFSETFROM:+0100
TZOFFSETTO:+0000
TZNAME:GMT
DTSTART:20231029T010000
END:STANDARD
BEGIN:DAYLIGHT
TZOFFSETFROM:+0000
TZOFFSETTO:+0100
TZNAME:BST
DTSTART:20240331T010000
END:DAYLIGHT
BEGIN:STANDARD
TZOFFSETFROM:+0100
TZOFFSETTO:+0000
TZNAME:GMT
DTSTART:20241027T010000
END:STANDARD
BEGIN:DAYLIGHT
TZOFFSETFROM:+0000
TZOFFSETTO:+0100
TZNAME:BST
DTSTART:20250330T010000
END:DAYLIGHT
BEGIN:STANDARD
TZOFFSETFROM:+0100
TZOFFSETTO:+0000
TZNAME:GMT
DTSTART:20251026T010000
END:STANDARD
END:VTIMEZONE
BEGIN:VEVENT
DTSTART;TZID=Europe/London:20240613T190000
DTEND;TZID=Europe/London:20240613T223000
DTSTAMP:20260423T000009
CREATED:20231120T163354Z
LAST-MODIFIED:20231120T163354Z
UID:43656-1718305200-1718317800@www.abingdon.gov.uk
SUMMARY:Bill McKinnon and friends
DESCRIPTION:Bill turned up with a drum to his first audition in 1973. He was told to beat it and has never looked back.\nEarly on in his musical career he discovered that it is really difficult to sing and play the trombone at the same time.\nAfter 50 years of entertaining audiences near and far (even unto Newbury) Bill still enjoys singing old and new traditional folk songs\, good old singalong ones to join in with and the occasional self-penned stuff.\nIt is five years since Bill last played The Unicorn and he is accompanied once again by those two fabulous musicians Anne Tarrant and Linda Benton. We are looking forward to another cracking night of song\, laughter and jolly good cheer. \nSupport is from Luka FD. \nDoors and bar at 7pm\, music at 7:15pm.
URL:https://www.abingdon.gov.uk/event/bill-mckinnon-and-friends
LOCATION:Unicorn Theatre\, Thames Street\, Abingdon\, Thames Street\, Abingdon\, OX14 3HZ\, United Kingdom
CATEGORIES:Arts & Culture
ATTACH;FMTTYPE=image/jpeg:https://www.abingdon.gov.uk/wp-content/uploads/2023/11/Bill-Mck.jpeg
ORGANIZER;CN="Music At The Unicorn":MAILTO:info@musicattheunicorn.org.uk
END:VEVENT
END:VCALENDAR