BEGIN:VCALENDAR
VERSION:2.0
PRODID:-//Abingdon on Thames Town Council - ECPv6.15.18//NONSGML v1.0//EN
CALSCALE:GREGORIAN
METHOD:PUBLISH
X-WR-CALNAME:Abingdon on Thames Town Council
X-ORIGINAL-URL:https://www.abingdon.gov.uk
X-WR-CALDESC:Events for Abingdon on Thames Town Council
REFRESH-INTERVAL;VALUE=DURATION:PT1H
X-Robots-Tag:noindex
X-PUBLISHED-TTL:PT1H
BEGIN:VTIMEZONE
TZID:Europe/London
BEGIN:DAYLIGHT
TZOFFSETFROM:+0000
TZOFFSETTO:+0100
TZNAME:BST
DTSTART:20230326T010000
END:DAYLIGHT
BEGIN:STANDARD
TZOFFSETFROM:+0100
TZOFFSETTO:+0000
TZNAME:GMT
DTSTART:20231029T010000
END:STANDARD
BEGIN:DAYLIGHT
TZOFFSETFROM:+0000
TZOFFSETTO:+0100
TZNAME:BST
DTSTART:20240331T010000
END:DAYLIGHT
BEGIN:STANDARD
TZOFFSETFROM:+0100
TZOFFSETTO:+0000
TZNAME:GMT
DTSTART:20241027T010000
END:STANDARD
BEGIN:DAYLIGHT
TZOFFSETFROM:+0000
TZOFFSETTO:+0100
TZNAME:BST
DTSTART:20250330T010000
END:DAYLIGHT
BEGIN:STANDARD
TZOFFSETFROM:+0100
TZOFFSETTO:+0000
TZNAME:GMT
DTSTART:20251026T010000
END:STANDARD
END:VTIMEZONE
BEGIN:VEVENT
DTSTART;TZID=Europe/London:20240412T160000
DTEND;TZID=Europe/London:20240414T160000
DTSTAMP:20260422T112032
CREATED:20240222T154416Z
LAST-MODIFIED:20240222T154416Z
UID:46214-1712937600-1713110400@www.abingdon.gov.uk
SUMMARY:'Caring for Ourselves\, Caring for the World' weekend mindfulness retreat
DESCRIPTION:Is it possible to care for others without sacrificing your own needs? \nHow do you resource yourself to keep your heart open to the huge suffering in the world without burning out? \nIt can be so tricky balancing caring for others and caring for ourselves. Many of us know exactly how to give comfort\, support and kindness to other people when they’re struggling\, but can’t seem to access those qualities for ourselves. \nThis gentle\, supportive weekend workshop will draw on the practices of mindfulness and self-compassion to help you take better care of yourself and avoid burnout and caregiving fatigue. \nYou’ll have the chance to connect with other kind-hearted people\, take time for yourself in the beautiful surroundings of Brazier’s Park\, and leave with a whole range of skills and techniques to draw on in everyday life.
URL:https://www.abingdon.gov.uk/event/caring-for-ourselves-caring-for-the-world-weekend-mindfulness-retreat
LOCATION:Brazier’s Park\, Ipsden\, Wallingford\, Oxfordshire\, OX10 6AN\, United Kingdom
ATTACH;FMTTYPE=image/png:https://www.abingdon.gov.uk/wp-content/uploads/2024/02/Artboard-1.png
ORGANIZER;CN="Sally Harris Mindfulness":MAILTO:hello@sallyharrismindfulness.co.uk
END:VEVENT
END:VCALENDAR