BEGIN:VCALENDAR
VERSION:2.0
PRODID:-//Abingdon on Thames Town Council - ECPv6.15.18//NONSGML v1.0//EN
CALSCALE:GREGORIAN
METHOD:PUBLISH
X-WR-CALNAME:Abingdon on Thames Town Council
X-ORIGINAL-URL:https://www.abingdon.gov.uk
X-WR-CALDESC:Events for Abingdon on Thames Town Council
REFRESH-INTERVAL;VALUE=DURATION:PT1H
X-Robots-Tag:noindex
X-PUBLISHED-TTL:PT1H
BEGIN:VTIMEZONE
TZID:Europe/London
BEGIN:DAYLIGHT
TZOFFSETFROM:+0000
TZOFFSETTO:+0100
TZNAME:BST
DTSTART:20250330T010000
END:DAYLIGHT
BEGIN:STANDARD
TZOFFSETFROM:+0100
TZOFFSETTO:+0000
TZNAME:GMT
DTSTART:20251026T010000
END:STANDARD
BEGIN:DAYLIGHT
TZOFFSETFROM:+0000
TZOFFSETTO:+0100
TZNAME:BST
DTSTART:20260329T010000
END:DAYLIGHT
BEGIN:STANDARD
TZOFFSETFROM:+0100
TZOFFSETTO:+0000
TZNAME:GMT
DTSTART:20261025T010000
END:STANDARD
BEGIN:DAYLIGHT
TZOFFSETFROM:+0000
TZOFFSETTO:+0100
TZNAME:BST
DTSTART:20270328T010000
END:DAYLIGHT
BEGIN:STANDARD
TZOFFSETFROM:+0100
TZOFFSETTO:+0000
TZNAME:GMT
DTSTART:20271031T010000
END:STANDARD
END:VTIMEZONE
BEGIN:VEVENT
DTSTART;TZID=Europe/London:20260502T120000
DTEND;TZID=Europe/London:20260510T170000
DTSTAMP:20260420T173716
CREATED:20260420T072649Z
LAST-MODIFIED:20260420T072649Z
UID:85562-1777723200-1778432400@www.abingdon.gov.uk
SUMMARY:Charlotte Storrs Pottery open during Oxfordshire Artweeks
DESCRIPTION:Pots will be displayed in a large gazebo in our beautiful secret garden and in the pottery. There is ample parking by the Green. Children are very welcome and can have go on the swings\, go down the slide or play chef in the mud kitchen. Visitors might like a beaker of home pressed apple juice\, wander around the garden and look at the hydroponic greenhouse
URL:https://www.abingdon.gov.uk/event/charlotte-storrs-pottery-open-during-oxfordshire-artweeks
LOCATION:The Pottery\, 8 The Green\, Culham\, Abingdon OX14 4LZ\, 8 The Green\, Culham\, Abingdon OX14 4LZ\, Abingdon\, OX14 4LZ\, United Kingdom
CATEGORIES:Arts & Culture
ATTACH;FMTTYPE=image/png:https://www.abingdon.gov.uk/wp-content/uploads/2026/04/Artweeks26.png
END:VEVENT
END:VCALENDAR