BEGIN:VCALENDAR
VERSION:2.0
PRODID:-//Abingdon on Thames Town Council - ECPv6.15.18//NONSGML v1.0//EN
CALSCALE:GREGORIAN
METHOD:PUBLISH
X-WR-CALNAME:Abingdon on Thames Town Council
X-ORIGINAL-URL:https://www.abingdon.gov.uk
X-WR-CALDESC:Events for Abingdon on Thames Town Council
REFRESH-INTERVAL;VALUE=DURATION:PT1H
X-Robots-Tag:noindex
X-PUBLISHED-TTL:PT1H
BEGIN:VTIMEZONE
TZID:Europe/London
BEGIN:DAYLIGHT
TZOFFSETFROM:+0000
TZOFFSETTO:+0100
TZNAME:BST
DTSTART:20230326T010000
END:DAYLIGHT
BEGIN:STANDARD
TZOFFSETFROM:+0100
TZOFFSETTO:+0000
TZNAME:GMT
DTSTART:20231029T010000
END:STANDARD
BEGIN:DAYLIGHT
TZOFFSETFROM:+0000
TZOFFSETTO:+0100
TZNAME:BST
DTSTART:20240331T010000
END:DAYLIGHT
BEGIN:STANDARD
TZOFFSETFROM:+0100
TZOFFSETTO:+0000
TZNAME:GMT
DTSTART:20241027T010000
END:STANDARD
BEGIN:DAYLIGHT
TZOFFSETFROM:+0000
TZOFFSETTO:+0100
TZNAME:BST
DTSTART:20250330T010000
END:DAYLIGHT
BEGIN:STANDARD
TZOFFSETFROM:+0100
TZOFFSETTO:+0000
TZNAME:GMT
DTSTART:20251026T010000
END:STANDARD
END:VTIMEZONE
BEGIN:VEVENT
DTSTART;TZID=Europe/London:20240529T100000
DTEND;TZID=Europe/London:20240529T120000
DTSTAMP:20260423T024243
CREATED:20240513T143917Z
LAST-MODIFIED:20240513T143917Z
UID:49172-1716976800-1716984000@www.abingdon.gov.uk
SUMMARY:"Clay Clumps" Creative Art Sculpture Workshop
DESCRIPTION:Come along to our creative art workshops and harness the power of your own creativity. \nEarth Trust’s Artist in Residence Nicola Fielding welcomes you to join her to ‘play with clay’\, using natural clay that has been foraged from around Earth Trust Centre to create truly unique artwork. \nCome and create your own clay sculpture inspired by the famous Wittenham Clumps. \nArtist in Residence Nicola will guide you through the process of designing\, planning and making a small ceramic sculpture based on the fantastic wildlife that lives around The Clumps. \nOnce finished\, your work will be dried and kiln fired before being displayed as part of a special exhibition at Earth Trust in July. Participants will receive an invitation to the private view event and will be able to take their work home after the event or arrange collection at a different time. \n– Recommended for children aged 6-11 with an accompanying adult per family (Grown-ups are very welcome to make their own sculpture too!)\n– All materials\, and refreshments\, will be provided\n– Free\, on-site car parking at the venue\n– Wheelchair friendly venue \nDates: Wednesday 29th May (also running on Saturday 6th July)\nTimes: 10am-12pm\nLocation: Earth Trust Centre\, Little Wittenham\, OX14 4QZ\nSuitability: Children aged 6+ and adults\nPrice: £5 per ticket. All materials and equipment are included\, as well as refreshments. \nFor tickets and important information about the event visit: https://earthtrust.org.uk/events/artist-in-residence-workshop/
URL:https://www.abingdon.gov.uk/event/clay-clumps-creative-art-sculpture-workshop
LOCATION:Earth Trust Centre\, Little Wittenham\, Abingdon\, Oxfordshire\, OX14 4QZ\, United Kingdom
CATEGORIES:Arts & Culture
ATTACH;FMTTYPE=image/jpeg:https://www.abingdon.gov.uk/wp-content/uploads/2024/05/landscape-1.jpg
ORGANIZER;CN="Earth Trust":MAILTO:admin@earthtrust.org.uk
END:VEVENT
END:VCALENDAR