BEGIN:VCALENDAR
VERSION:2.0
PRODID:-//Abingdon on Thames Town Council - ECPv6.15.18//NONSGML v1.0//EN
CALSCALE:GREGORIAN
METHOD:PUBLISH
X-WR-CALNAME:Abingdon on Thames Town Council
X-ORIGINAL-URL:https://www.abingdon.gov.uk
X-WR-CALDESC:Events for Abingdon on Thames Town Council
REFRESH-INTERVAL;VALUE=DURATION:PT1H
X-Robots-Tag:noindex
X-PUBLISHED-TTL:PT1H
BEGIN:VTIMEZONE
TZID:Europe/London
BEGIN:DAYLIGHT
TZOFFSETFROM:+0000
TZOFFSETTO:+0100
TZNAME:BST
DTSTART:20200329T010000
END:DAYLIGHT
BEGIN:STANDARD
TZOFFSETFROM:+0100
TZOFFSETTO:+0000
TZNAME:GMT
DTSTART:20201025T010000
END:STANDARD
BEGIN:DAYLIGHT
TZOFFSETFROM:+0000
TZOFFSETTO:+0100
TZNAME:BST
DTSTART:20210328T010000
END:DAYLIGHT
BEGIN:STANDARD
TZOFFSETFROM:+0100
TZOFFSETTO:+0000
TZNAME:GMT
DTSTART:20211031T010000
END:STANDARD
BEGIN:DAYLIGHT
TZOFFSETFROM:+0000
TZOFFSETTO:+0100
TZNAME:BST
DTSTART:20220327T010000
END:DAYLIGHT
BEGIN:STANDARD
TZOFFSETFROM:+0100
TZOFFSETTO:+0000
TZNAME:GMT
DTSTART:20221030T010000
END:STANDARD
END:VTIMEZONE
BEGIN:VEVENT
DTSTART;TZID=Europe/London:20211023T100000
DTEND;TZID=Europe/London:20211023T140000
DTSTAMP:20260424T002432
CREATED:20211013T083359Z
LAST-MODIFIED:20211014T084044Z
UID:17626-1634983200-1634997600@www.abingdon.gov.uk
SUMMARY:COFFEE MORNING CHARITY EVENT
DESCRIPTION:Coffee\, Cake & Company – Tombola & Childrens Games \n‘In memory of all those who have lost the fight to cancer’ \nOrganisers – Oxfordshire IVC Social Club on behalf of Macmillan Cancer Support & Rape Crisis \nPlease come & help make this event a great success; we look forward to seeing you. 😊 \n 
URL:https://www.abingdon.gov.uk/event/coffee-morning-charity-event
LOCATION:The Northcourt Centre\, Abingdon OX14 1NS\, Northcourt Road\,\, Abingdon\, OX14 1NS
ATTACH;FMTTYPE=image/png:https://www.abingdon.gov.uk/wp-content/uploads/2021/10/coffee.png
ORGANIZER;CN="Oxfordshire IVC Social Club":MAILTO:bobbie.nuciforo@hotmail.co.uk
END:VEVENT
END:VCALENDAR