BEGIN:VCALENDAR
VERSION:2.0
PRODID:-//Abingdon on Thames Town Council - ECPv6.15.18//NONSGML v1.0//EN
CALSCALE:GREGORIAN
METHOD:PUBLISH
X-WR-CALNAME:Abingdon on Thames Town Council
X-ORIGINAL-URL:https://www.abingdon.gov.uk
X-WR-CALDESC:Events for Abingdon on Thames Town Council
REFRESH-INTERVAL;VALUE=DURATION:PT1H
X-Robots-Tag:noindex
X-PUBLISHED-TTL:PT1H
BEGIN:VTIMEZONE
TZID:Europe/London
BEGIN:DAYLIGHT
TZOFFSETFROM:+0000
TZOFFSETTO:+0100
TZNAME:BST
DTSTART:20230326T010000
END:DAYLIGHT
BEGIN:STANDARD
TZOFFSETFROM:+0100
TZOFFSETTO:+0000
TZNAME:GMT
DTSTART:20231029T010000
END:STANDARD
BEGIN:DAYLIGHT
TZOFFSETFROM:+0000
TZOFFSETTO:+0100
TZNAME:BST
DTSTART:20240331T010000
END:DAYLIGHT
BEGIN:STANDARD
TZOFFSETFROM:+0100
TZOFFSETTO:+0000
TZNAME:GMT
DTSTART:20241027T010000
END:STANDARD
BEGIN:DAYLIGHT
TZOFFSETFROM:+0000
TZOFFSETTO:+0100
TZNAME:BST
DTSTART:20250330T010000
END:DAYLIGHT
BEGIN:STANDARD
TZOFFSETFROM:+0100
TZOFFSETTO:+0000
TZNAME:GMT
DTSTART:20251026T010000
END:STANDARD
END:VTIMEZONE
BEGIN:VEVENT
DTSTART;TZID=Europe/London:20240119T140000
DTEND;TZID=Europe/London:20240119T153000
DTSTAMP:20260423T071905
CREATED:20240117T124824Z
LAST-MODIFIED:20240117T124851Z
UID:44763-1705672800-1705678200@www.abingdon.gov.uk
SUMMARY:Composting with Lucille - a free event
DESCRIPTION:Lucille has been the inspirational Head Gardener of Merton College for over 20 years\, championing sustainability and the restoration of wildflower meadows. Join her for this free workshop where she will share with us us how homemade compost\, and potting mixes\, are made in an Oxford College:\nShe will tell us what you can compost at home and methods to suit your garden. And how to make potting compost from readily available ingredients without the need to buy in. No need to book – but diarise now and join us!
URL:https://www.abingdon.gov.uk/event/composting-with-lucille-a-free-event
LOCATION:One Planet Abingdon\, Climate Emergency Centre\, under the County Hall\, Market Place\, Abingdon\, Oxon\, OX14 3HG\, United Kingdom
ATTACH;FMTTYPE=image/png:https://www.abingdon.gov.uk/wp-content/uploads/2024/01/1704830574695blob.png
ORGANIZER;CN="One Planet Abingdon":MAILTO:contact@oneplanetabingdon.org
END:VEVENT
END:VCALENDAR