BEGIN:VCALENDAR
VERSION:2.0
PRODID:-//Abingdon on Thames Town Council - ECPv6.15.18//NONSGML v1.0//EN
CALSCALE:GREGORIAN
METHOD:PUBLISH
X-WR-CALNAME:Abingdon on Thames Town Council
X-ORIGINAL-URL:https://www.abingdon.gov.uk
X-WR-CALDESC:Events for Abingdon on Thames Town Council
REFRESH-INTERVAL;VALUE=DURATION:PT1H
X-Robots-Tag:noindex
X-PUBLISHED-TTL:PT1H
BEGIN:VTIMEZONE
TZID:Europe/London
BEGIN:DAYLIGHT
TZOFFSETFROM:+0000
TZOFFSETTO:+0100
TZNAME:BST
DTSTART:20230326T010000
END:DAYLIGHT
BEGIN:STANDARD
TZOFFSETFROM:+0100
TZOFFSETTO:+0000
TZNAME:GMT
DTSTART:20231029T010000
END:STANDARD
BEGIN:DAYLIGHT
TZOFFSETFROM:+0000
TZOFFSETTO:+0100
TZNAME:BST
DTSTART:20240331T010000
END:DAYLIGHT
BEGIN:STANDARD
TZOFFSETFROM:+0100
TZOFFSETTO:+0000
TZNAME:GMT
DTSTART:20241027T010000
END:STANDARD
BEGIN:DAYLIGHT
TZOFFSETFROM:+0000
TZOFFSETTO:+0100
TZNAME:BST
DTSTART:20250330T010000
END:DAYLIGHT
BEGIN:STANDARD
TZOFFSETFROM:+0100
TZOFFSETTO:+0000
TZNAME:GMT
DTSTART:20251026T010000
END:STANDARD
END:VTIMEZONE
BEGIN:VEVENT
DTSTART;TZID=Europe/London:20240710T193000
DTEND;TZID=Europe/London:20240710T210000
DTSTAMP:20260423T042802
CREATED:20240705T095130Z
LAST-MODIFIED:20240705T095130Z
UID:51536-1720639800-1720645200@www.abingdon.gov.uk
SUMMARY:Creating and restoring wetland habitat in the Ock
DESCRIPTION:Speaker: Adam Bows\, Senior Project Manager of the Ock Catchment Partnership\, co-ordinated by Freshwater Habitats Trust. \nAdam Bows will talk to us about the Partnership and the breadth of activity taking place in our area to deliver the Freshwater Network including: Creating floodplain wetland mosaics\, ponds and scrapes; Restoring floodplain grassland; GroWet plant re-introduction;  Alkaline fen restoration; The Ock Curlew Project. \n 
URL:https://www.abingdon.gov.uk/event/creating-and-restoring-wetland-habitat-in-the-ock
LOCATION:Christ Church Hall\, Northcourt Road\, Abingdon\, OX14 1PL
CATEGORIES:Environment
ATTACH;FMTTYPE=image/jpeg:https://www.abingdon.gov.uk/wp-content/uploads/2024/07/2407_AdamB.jpg
END:VEVENT
END:VCALENDAR