BEGIN:VCALENDAR
VERSION:2.0
PRODID:-//Abingdon on Thames Town Council - ECPv6.15.18//NONSGML v1.0//EN
CALSCALE:GREGORIAN
METHOD:PUBLISH
X-WR-CALNAME:Abingdon on Thames Town Council
X-ORIGINAL-URL:https://www.abingdon.gov.uk
X-WR-CALDESC:Events for Abingdon on Thames Town Council
REFRESH-INTERVAL;VALUE=DURATION:PT1H
X-Robots-Tag:noindex
X-PUBLISHED-TTL:PT1H
BEGIN:VTIMEZONE
TZID:Europe/London
BEGIN:DAYLIGHT
TZOFFSETFROM:+0000
TZOFFSETTO:+0100
TZNAME:BST
DTSTART:20240331T010000
END:DAYLIGHT
BEGIN:STANDARD
TZOFFSETFROM:+0100
TZOFFSETTO:+0000
TZNAME:GMT
DTSTART:20241027T010000
END:STANDARD
BEGIN:DAYLIGHT
TZOFFSETFROM:+0000
TZOFFSETTO:+0100
TZNAME:BST
DTSTART:20250330T010000
END:DAYLIGHT
BEGIN:STANDARD
TZOFFSETFROM:+0100
TZOFFSETTO:+0000
TZNAME:GMT
DTSTART:20251026T010000
END:STANDARD
BEGIN:DAYLIGHT
TZOFFSETFROM:+0000
TZOFFSETTO:+0100
TZNAME:BST
DTSTART:20260329T010000
END:DAYLIGHT
BEGIN:STANDARD
TZOFFSETFROM:+0100
TZOFFSETTO:+0000
TZNAME:GMT
DTSTART:20261025T010000
END:STANDARD
END:VTIMEZONE
BEGIN:VEVENT
DTSTART;TZID=Europe/London:20250705T143000
DTEND;TZID=Europe/London:20250705T170000
DTSTAMP:20260420T174257
CREATED:20250623T142026Z
LAST-MODIFIED:20250623T142026Z
UID:65029-1751725800-1751734800@www.abingdon.gov.uk
SUMMARY:Dancing at Lughnasa by Brian Friel
DESCRIPTION:Meet the five feisty Mundy sisters and three menfolk in this beautiful play set in rural Donegal in 1936 at the time of the  Lughnasa harvest festival. \nTickets from The Bookstore\, Bury Street or online at www.abingdon-drama-club.com
URL:https://www.abingdon.gov.uk/event/dancing-at-lughnasa-by-brian-friel-2
LOCATION:Unicorn Theatre\, Checker Walk\, Abingdon\, OX1 4JF\, United Kingdom
CATEGORIES:Arts & Culture
ATTACH;FMTTYPE=image/jpeg:https://www.abingdon.gov.uk/wp-content/uploads/2025/06/IMG_6818-1.jpeg
END:VEVENT
END:VCALENDAR