BEGIN:VCALENDAR
VERSION:2.0
PRODID:-//Abingdon on Thames Town Council - ECPv6.15.18//NONSGML v1.0//EN
CALSCALE:GREGORIAN
METHOD:PUBLISH
X-WR-CALNAME:Abingdon on Thames Town Council
X-ORIGINAL-URL:https://www.abingdon.gov.uk
X-WR-CALDESC:Events for Abingdon on Thames Town Council
REFRESH-INTERVAL;VALUE=DURATION:PT1H
X-Robots-Tag:noindex
X-PUBLISHED-TTL:PT1H
BEGIN:VTIMEZONE
TZID:Europe/London
BEGIN:DAYLIGHT
TZOFFSETFROM:+0000
TZOFFSETTO:+0100
TZNAME:BST
DTSTART:20220327T010000
END:DAYLIGHT
BEGIN:STANDARD
TZOFFSETFROM:+0100
TZOFFSETTO:+0000
TZNAME:GMT
DTSTART:20221030T010000
END:STANDARD
BEGIN:DAYLIGHT
TZOFFSETFROM:+0000
TZOFFSETTO:+0100
TZNAME:BST
DTSTART:20230326T010000
END:DAYLIGHT
BEGIN:STANDARD
TZOFFSETFROM:+0100
TZOFFSETTO:+0000
TZNAME:GMT
DTSTART:20231029T010000
END:STANDARD
BEGIN:DAYLIGHT
TZOFFSETFROM:+0000
TZOFFSETTO:+0100
TZNAME:BST
DTSTART:20240331T010000
END:DAYLIGHT
BEGIN:STANDARD
TZOFFSETFROM:+0100
TZOFFSETTO:+0000
TZNAME:GMT
DTSTART:20241027T010000
END:STANDARD
END:VTIMEZONE
BEGIN:VEVENT
DTSTART;TZID=Europe/London:20231013T110000
DTEND;TZID=Europe/London:20231013T120000
DTSTAMP:20260422T155918
CREATED:20230918T111058Z
LAST-MODIFIED:20230918T111058Z
UID:42016-1697194800-1697198400@www.abingdon.gov.uk
SUMMARY:Dementia Information Session
DESCRIPTION:This free\, one hour Alzheimer’s Society session provides the opportunity to understand what it might be like to live with dementia and how we can best support someone living with the condition – using easily relatable analogies to aid understanding.
URL:https://www.abingdon.gov.uk/event/dementia-information-session-4
LOCATION:Kempster Room\, Basement\, Abingdon County Hall Museum\,  Market Place\, Abingdon\, OXON. OX14 3HG.
ATTACH;FMTTYPE=image/png:https://www.abingdon.gov.uk/wp-content/uploads/2023/09/DFA_colour-1.png
ORGANIZER;CN="Dementia Friendly Abingdon":MAILTO:dementiafriendlyabingdon@gmail.com
END:VEVENT
END:VCALENDAR