BEGIN:VCALENDAR
VERSION:2.0
PRODID:-//Abingdon on Thames Town Council - ECPv6.15.18//NONSGML v1.0//EN
CALSCALE:GREGORIAN
METHOD:PUBLISH
X-WR-CALNAME:Abingdon on Thames Town Council
X-ORIGINAL-URL:https://www.abingdon.gov.uk
X-WR-CALDESC:Events for Abingdon on Thames Town Council
REFRESH-INTERVAL;VALUE=DURATION:PT1H
X-Robots-Tag:noindex
X-PUBLISHED-TTL:PT1H
BEGIN:VTIMEZONE
TZID:Europe/London
BEGIN:DAYLIGHT
TZOFFSETFROM:+0000
TZOFFSETTO:+0100
TZNAME:BST
DTSTART:20200329T010000
END:DAYLIGHT
BEGIN:STANDARD
TZOFFSETFROM:+0100
TZOFFSETTO:+0000
TZNAME:GMT
DTSTART:20201025T010000
END:STANDARD
BEGIN:DAYLIGHT
TZOFFSETFROM:+0000
TZOFFSETTO:+0100
TZNAME:BST
DTSTART:20210328T010000
END:DAYLIGHT
BEGIN:STANDARD
TZOFFSETFROM:+0100
TZOFFSETTO:+0000
TZNAME:GMT
DTSTART:20211031T010000
END:STANDARD
BEGIN:DAYLIGHT
TZOFFSETFROM:+0000
TZOFFSETTO:+0100
TZNAME:BST
DTSTART:20220327T010000
END:DAYLIGHT
BEGIN:STANDARD
TZOFFSETFROM:+0100
TZOFFSETTO:+0000
TZNAME:GMT
DTSTART:20221030T010000
END:STANDARD
END:VTIMEZONE
BEGIN:VEVENT
DTSTART;TZID=Europe/London:20211128T100000
DTEND;TZID=Europe/London:20211128T124500
DTSTAMP:20260423T225708
CREATED:20211110T140201Z
LAST-MODIFIED:20211110T140201Z
UID:18055-1638093600-1638103500@www.abingdon.gov.uk
SUMMARY:Downland Dance Open Day
DESCRIPTION:Have you or your little ones ever wanted to be a Ballet Dancer? Downland Dance are giving you the opportunity to try out a ballet class for FREE during their Open Day on Sunday 28th November. Sign up for classes for girls and boys aged 3 to 5 and aged 6 to 8 at the Abingdon and Didcot studios\, or for the Adult Beginners class (Didcot only). \nFor more details and to register visit www.downland-dance.co.uk/opendays/ \nor email info@downland-dance.co.uk
URL:https://www.abingdon.gov.uk/event/downland-dance-open-day
LOCATION:West Wing Studio\, Coxeter House\, Abingdon\, Oxfordshire\, OX14 3RG\, United Kingdom
CATEGORIES:Arts & Culture
ATTACH;FMTTYPE=image/png:https://www.abingdon.gov.uk/wp-content/uploads/2021/11/DD-Open-Day-Poster.png
ORGANIZER;CN="Downland Dance":MAILTO:info@downland-dance.co.uk
END:VEVENT
END:VCALENDAR