BEGIN:VCALENDAR
VERSION:2.0
PRODID:-//Abingdon on Thames Town Council - ECPv6.15.18//NONSGML v1.0//EN
CALSCALE:GREGORIAN
METHOD:PUBLISH
X-WR-CALNAME:Abingdon on Thames Town Council
X-ORIGINAL-URL:https://www.abingdon.gov.uk
X-WR-CALDESC:Events for Abingdon on Thames Town Council
REFRESH-INTERVAL;VALUE=DURATION:PT1H
X-Robots-Tag:noindex
X-PUBLISHED-TTL:PT1H
BEGIN:VTIMEZONE
TZID:Europe/London
BEGIN:DAYLIGHT
TZOFFSETFROM:+0000
TZOFFSETTO:+0100
TZNAME:BST
DTSTART:20200329T010000
END:DAYLIGHT
BEGIN:STANDARD
TZOFFSETFROM:+0100
TZOFFSETTO:+0000
TZNAME:GMT
DTSTART:20201025T010000
END:STANDARD
BEGIN:DAYLIGHT
TZOFFSETFROM:+0000
TZOFFSETTO:+0100
TZNAME:BST
DTSTART:20210328T010000
END:DAYLIGHT
BEGIN:STANDARD
TZOFFSETFROM:+0100
TZOFFSETTO:+0000
TZNAME:GMT
DTSTART:20211031T010000
END:STANDARD
BEGIN:DAYLIGHT
TZOFFSETFROM:+0000
TZOFFSETTO:+0100
TZNAME:BST
DTSTART:20220327T010000
END:DAYLIGHT
BEGIN:STANDARD
TZOFFSETFROM:+0100
TZOFFSETTO:+0000
TZNAME:GMT
DTSTART:20221030T010000
END:STANDARD
END:VTIMEZONE
BEGIN:VEVENT
DTSTART;TZID=Europe/London:20210913T080000
DTEND;TZID=Europe/London:20211126T200000
DTSTAMP:20260424T003245
CREATED:20211007T080531Z
LAST-MODIFIED:20211007T080531Z
UID:17518-1631520000-1637956800@www.abingdon.gov.uk
SUMMARY:Draw\, Paint\, Sculpt & Pot @ Sunningwell School of Art
DESCRIPTION:Sunningwell School of Art\n‘an understated treasure\, at the heart of the arts in rural Oxfordshire for 48 years’\n\nSunningwell School of Art is a thriving artist-led\, visual arts charity with courses available in drawing\, painting\, sculpture and ceramics taught in a friendly and appealing environment by professional art tutors. \nThe school is treasured for its nurturing and inclusive atmosphere\, by all those who attend classes in one of its’ three bustling studios. \nWe have spaces available on the courses below: \nSat/10am to 12pm/Grant Waters: Life & Figure Drawing/Painting  \nFri/10am to 12pm/Ruth Swain: Intermediate Fine Art  \nFri/1pm to 3pm/Grant Waters: Absolute Beginners Class \nThurs/10am to 12pm/Hannah Yeadon: All Day pottery \nThurs/1pm to 3pm/Hannah Yeadon: All Day Pottery  \nWeds/10am to 12pm/Graham Hudson: Pottery for all \nWeds/1pm to 3pm/Allyson Austin: Images and Ideas All Media \nWeds/7pm to 9pm/Anthony Eccles: Pottery for All \nTues/10am to 12pm/Neil Drury: Life Drawing & Painting \nTues/1pm to 3pm/Graham Hudson: Pottery for all  \nTues/1.30pm to 3.30pm/Neil Drury: Life Drawing and Painting \nTues/7pm to 9pm/Neil Drury: Life & Portrait Drawing & Painting \nTues/7pm to 9pm/Nena Parkes: An Introduction to Drawing & Painting \nMon/1.15pm to 3.45pm: Life Sculpture in Clay Stage 2 \nSPEAK TO OUR FRIENDLY TEAM FOR FULL DETAILS 01865 730442 / ARTSCHOOL.ORG.UK
URL:https://www.abingdon.gov.uk/event/draw-paint-sculpt-pot-sunningwell-school-of-art
LOCATION:Sunningwell School of Art\, Old School\, Sunningwell\, OX13 6RD\, United Kingdom
CATEGORIES:Arts & Culture
ATTACH;FMTTYPE=image/jpeg:https://www.abingdon.gov.uk/wp-content/uploads/2021/10/1Sunningwell-School-of-Art.jpg
ORGANIZER;CN="Sunningwell School of Art":MAILTO:sunningwell@artschool.org.uk
END:VEVENT
END:VCALENDAR