BEGIN:VCALENDAR
VERSION:2.0
PRODID:-//Abingdon on Thames Town Council - ECPv6.15.18//NONSGML v1.0//EN
CALSCALE:GREGORIAN
METHOD:PUBLISH
X-WR-CALNAME:Abingdon on Thames Town Council
X-ORIGINAL-URL:https://www.abingdon.gov.uk
X-WR-CALDESC:Events for Abingdon on Thames Town Council
REFRESH-INTERVAL;VALUE=DURATION:PT1H
X-Robots-Tag:noindex
X-PUBLISHED-TTL:PT1H
BEGIN:VTIMEZONE
TZID:Europe/London
BEGIN:DAYLIGHT
TZOFFSETFROM:+0000
TZOFFSETTO:+0100
TZNAME:BST
DTSTART:20210328T010000
END:DAYLIGHT
BEGIN:STANDARD
TZOFFSETFROM:+0100
TZOFFSETTO:+0000
TZNAME:GMT
DTSTART:20211031T010000
END:STANDARD
BEGIN:DAYLIGHT
TZOFFSETFROM:+0000
TZOFFSETTO:+0100
TZNAME:BST
DTSTART:20220327T010000
END:DAYLIGHT
BEGIN:STANDARD
TZOFFSETFROM:+0100
TZOFFSETTO:+0000
TZNAME:GMT
DTSTART:20221030T010000
END:STANDARD
BEGIN:DAYLIGHT
TZOFFSETFROM:+0000
TZOFFSETTO:+0100
TZNAME:BST
DTSTART:20230326T010000
END:DAYLIGHT
BEGIN:STANDARD
TZOFFSETFROM:+0100
TZOFFSETTO:+0000
TZNAME:GMT
DTSTART:20231029T010000
END:STANDARD
END:VTIMEZONE
BEGIN:VEVENT
DTSTART;TZID=Europe/London:20220411T100000
DTEND;TZID=Europe/London:20220411T160000
DTSTAMP:20260424T002327
CREATED:20220208T105030Z
LAST-MODIFIED:20220208T105030Z
UID:19097-1649671200-1649692800@www.abingdon.gov.uk
SUMMARY:Easter Gymnastics Course
DESCRIPTION:Former British gymnastics coach Mike Weinstock will help budding gymnasts aged 9-13 improve their skills over this 1 day taster course. The course will help improve coordination\, body control\, dexterity\, gracefulness and strength.
URL:https://www.abingdon.gov.uk/event/easter-gymnastics-course
LOCATION:St Helen and St Katharine School\, Faringdon Road\, Abingdon\, OX14 1BE\, United Kingdom
ATTACH;FMTTYPE=image/jpeg:https://www.abingdon.gov.uk/wp-content/uploads/2022/02/Gymnastics.jpg
ORGANIZER;CN="St Helen and St Katharine School":MAILTO:https://www.shsk.org.uk/home/main-event-booking.aspx
END:VEVENT
END:VCALENDAR