BEGIN:VCALENDAR
VERSION:2.0
PRODID:-//Abingdon on Thames Town Council - ECPv6.15.18//NONSGML v1.0//EN
CALSCALE:GREGORIAN
METHOD:PUBLISH
X-WR-CALNAME:Abingdon on Thames Town Council
X-ORIGINAL-URL:https://www.abingdon.gov.uk
X-WR-CALDESC:Events for Abingdon on Thames Town Council
REFRESH-INTERVAL;VALUE=DURATION:PT1H
X-Robots-Tag:noindex
X-PUBLISHED-TTL:PT1H
BEGIN:VTIMEZONE
TZID:Europe/London
BEGIN:DAYLIGHT
TZOFFSETFROM:+0000
TZOFFSETTO:+0100
TZNAME:BST
DTSTART:20230326T010000
END:DAYLIGHT
BEGIN:STANDARD
TZOFFSETFROM:+0100
TZOFFSETTO:+0000
TZNAME:GMT
DTSTART:20231029T010000
END:STANDARD
BEGIN:DAYLIGHT
TZOFFSETFROM:+0000
TZOFFSETTO:+0100
TZNAME:BST
DTSTART:20240331T010000
END:DAYLIGHT
BEGIN:STANDARD
TZOFFSETFROM:+0100
TZOFFSETTO:+0000
TZNAME:GMT
DTSTART:20241027T010000
END:STANDARD
BEGIN:DAYLIGHT
TZOFFSETFROM:+0000
TZOFFSETTO:+0100
TZNAME:BST
DTSTART:20250330T010000
END:DAYLIGHT
BEGIN:STANDARD
TZOFFSETFROM:+0100
TZOFFSETTO:+0000
TZNAME:GMT
DTSTART:20251026T010000
END:STANDARD
END:VTIMEZONE
BEGIN:VEVENT
DTSTART;TZID=Europe/London:20240615T100000
DTEND;TZID=Europe/London:20240615T140000
DTSTAMP:20260423T044524
CREATED:20240530T092318Z
LAST-MODIFIED:20240530T092318Z
UID:49808-1718445600-1718460000@www.abingdon.gov.uk
SUMMARY:Ecotots at One Planet Living Festival with Laura
DESCRIPTION:This month our ecotots session is on a Saturday and is part of our One Planet Living Festival on 15 June. The festival starts at 10am and there will be loads of activities for everyone. Ecotots will be held in a large gazebo and Laura will be there as usual! Come along and enjoy the fun outdoors this time!’Our Wonderful World’ sessions are aimed at preschoolers age 2-5\, although older and younger siblings are also welcome! We aim to introduce families to the world around us\, through stories\, songs\, play activities and craft. All our craft activities are made primarily out of items that would otherwise be thrown away\, to give families an idea of how to use materials they may already have around the house\, as part of our aim to reduce consumption.
URL:https://www.abingdon.gov.uk/event/ecotots-at-one-planet-living-festival-with-laura
LOCATION:Abingdon Market Place
ATTACH;FMTTYPE=image/png:https://www.abingdon.gov.uk/wp-content/uploads/2024/05/ecotots-4.png
ORGANIZER;CN="One Planet Abingdon":MAILTO:contact@oneplanetabingdon.org
END:VEVENT
END:VCALENDAR