BEGIN:VCALENDAR
VERSION:2.0
PRODID:-//Abingdon on Thames Town Council - ECPv6.15.18//NONSGML v1.0//EN
CALSCALE:GREGORIAN
METHOD:PUBLISH
X-WR-CALNAME:Abingdon on Thames Town Council
X-ORIGINAL-URL:https://www.abingdon.gov.uk
X-WR-CALDESC:Events for Abingdon on Thames Town Council
REFRESH-INTERVAL;VALUE=DURATION:PT1H
X-Robots-Tag:noindex
X-PUBLISHED-TTL:PT1H
BEGIN:VTIMEZONE
TZID:Europe/London
BEGIN:DAYLIGHT
TZOFFSETFROM:+0000
TZOFFSETTO:+0100
TZNAME:BST
DTSTART:20240331T010000
END:DAYLIGHT
BEGIN:STANDARD
TZOFFSETFROM:+0100
TZOFFSETTO:+0000
TZNAME:GMT
DTSTART:20241027T010000
END:STANDARD
BEGIN:DAYLIGHT
TZOFFSETFROM:+0000
TZOFFSETTO:+0100
TZNAME:BST
DTSTART:20250330T010000
END:DAYLIGHT
BEGIN:STANDARD
TZOFFSETFROM:+0100
TZOFFSETTO:+0000
TZNAME:GMT
DTSTART:20251026T010000
END:STANDARD
BEGIN:DAYLIGHT
TZOFFSETFROM:+0000
TZOFFSETTO:+0100
TZNAME:BST
DTSTART:20260329T010000
END:DAYLIGHT
BEGIN:STANDARD
TZOFFSETFROM:+0100
TZOFFSETTO:+0000
TZNAME:GMT
DTSTART:20261025T010000
END:STANDARD
END:VTIMEZONE
BEGIN:VEVENT
DTSTART;TZID=Europe/London:20250918T180000
DTEND;TZID=Europe/London:20250918T190000
DTSTAMP:20260422T165917
CREATED:20250819T140555Z
LAST-MODIFIED:20250819T140555Z
UID:69330-1758218400-1758222000@www.abingdon.gov.uk
SUMMARY:Eve Smith Thriller Author Event
DESCRIPTION:Join us for an engaging talk with Eve Smith\, acclaimed local author of four speculative thrillers. She will share the inspiration and research behind her latest novel\, The Cure—named one of The Times’ best thrillers of 2025. The story explores the accidental discovery of a cure for ageing and the dangerous lengths some will go to in their quest for immortality. Tickets £2\, including a welcome drink\, are available from Abingdon Library\, by calling 01865 815005 or email abingdon.library@oxfordshire.gov.uk
URL:https://www.abingdon.gov.uk/event/eve-smith-thriller-author-event
LOCATION:Abingdon Library\, The Charter\, Abingdon\, OX14 3LY\, United Kingdom
CATEGORIES:Arts & Culture
ATTACH;FMTTYPE=image/jpeg:https://www.abingdon.gov.uk/wp-content/uploads/2025/08/Eve-Smith-Facebook.jpg
ORGANIZER;CN="Abingdon Library":MAILTO:abingdon.library@oxfordshire.gov.uk
END:VEVENT
END:VCALENDAR