BEGIN:VCALENDAR
VERSION:2.0
PRODID:-//Abingdon on Thames Town Council - ECPv6.15.18//NONSGML v1.0//EN
CALSCALE:GREGORIAN
METHOD:PUBLISH
X-WR-CALNAME:Abingdon on Thames Town Council
X-ORIGINAL-URL:https://www.abingdon.gov.uk
X-WR-CALDESC:Events for Abingdon on Thames Town Council
REFRESH-INTERVAL;VALUE=DURATION:PT1H
X-Robots-Tag:noindex
X-PUBLISHED-TTL:PT1H
BEGIN:VTIMEZONE
TZID:Europe/London
BEGIN:DAYLIGHT
TZOFFSETFROM:+0000
TZOFFSETTO:+0100
TZNAME:BST
DTSTART:20200329T010000
END:DAYLIGHT
BEGIN:STANDARD
TZOFFSETFROM:+0100
TZOFFSETTO:+0000
TZNAME:GMT
DTSTART:20201025T010000
END:STANDARD
BEGIN:DAYLIGHT
TZOFFSETFROM:+0000
TZOFFSETTO:+0100
TZNAME:BST
DTSTART:20210328T010000
END:DAYLIGHT
BEGIN:STANDARD
TZOFFSETFROM:+0100
TZOFFSETTO:+0000
TZNAME:GMT
DTSTART:20211031T010000
END:STANDARD
BEGIN:DAYLIGHT
TZOFFSETFROM:+0000
TZOFFSETTO:+0100
TZNAME:BST
DTSTART:20220327T010000
END:DAYLIGHT
BEGIN:STANDARD
TZOFFSETFROM:+0100
TZOFFSETTO:+0000
TZNAME:GMT
DTSTART:20221030T010000
END:STANDARD
END:VTIMEZONE
BEGIN:VEVENT
DTSTART;TZID=Europe/London:20211116T143000
DTEND;TZID=Europe/London:20211116T153000
DTSTAMP:20260423T230007
CREATED:20211013T083318Z
LAST-MODIFIED:20211013T083318Z
UID:17661-1637073000-1637076600@www.abingdon.gov.uk
SUMMARY:Everyday Life and Accidental Death in Tudor Oxfordshire
DESCRIPTION:Tudor England was a dangerous place.  There were plagues and wars\, perilous childbirths and shocking infant mortality.  But what risks did people face as they went about their everyday lives?  Steven Gunn of Merton College and Tomasz Gromelski of Wolfson College are investigating this problem using evidence from coroner’s reports preserved in the National Archives.  The four-year project entitled “Everyday Life and Fatal Hazard in Sixteenth-century England” is based in Oxford and funded by the Economic and Social Research Council\, with support from the Faculty of History and Merton and Wolfson Colleges.  Steven is Acting Warden\, Tutor in History and Professor of Early Modern History Research.
URL:https://www.abingdon.gov.uk/event/everyday-life-and-accidental-death-in-tudor-oxfordshire-2
LOCATION:Trinity Church\, Conduit Road\, Abingdon
CATEGORIES:Amenities and Recreation
ATTACH;FMTTYPE=image/jpeg:https://www.abingdon.gov.uk/wp-content/uploads/2021/10/talknov2021.jpg
ORGANIZER;CN="Abingdon and District National Trust Association":MAILTO:ruthweinburg@waitrose.com
END:VEVENT
END:VCALENDAR