BEGIN:VCALENDAR
VERSION:2.0
PRODID:-//Abingdon on Thames Town Council - ECPv6.15.18//NONSGML v1.0//EN
CALSCALE:GREGORIAN
METHOD:PUBLISH
X-WR-CALNAME:Abingdon on Thames Town Council
X-ORIGINAL-URL:https://www.abingdon.gov.uk
X-WR-CALDESC:Events for Abingdon on Thames Town Council
REFRESH-INTERVAL;VALUE=DURATION:PT1H
X-Robots-Tag:noindex
X-PUBLISHED-TTL:PT1H
BEGIN:VTIMEZONE
TZID:Europe/London
BEGIN:DAYLIGHT
TZOFFSETFROM:+0000
TZOFFSETTO:+0100
TZNAME:BST
DTSTART:20220327T010000
END:DAYLIGHT
BEGIN:STANDARD
TZOFFSETFROM:+0100
TZOFFSETTO:+0000
TZNAME:GMT
DTSTART:20221030T010000
END:STANDARD
BEGIN:DAYLIGHT
TZOFFSETFROM:+0000
TZOFFSETTO:+0100
TZNAME:BST
DTSTART:20230326T010000
END:DAYLIGHT
BEGIN:STANDARD
TZOFFSETFROM:+0100
TZOFFSETTO:+0000
TZNAME:GMT
DTSTART:20231029T010000
END:STANDARD
BEGIN:DAYLIGHT
TZOFFSETFROM:+0000
TZOFFSETTO:+0100
TZNAME:BST
DTSTART:20240331T010000
END:DAYLIGHT
BEGIN:STANDARD
TZOFFSETFROM:+0100
TZOFFSETTO:+0000
TZNAME:GMT
DTSTART:20241027T010000
END:STANDARD
END:VTIMEZONE
BEGIN:VEVENT
DTSTART;TZID=Europe/London:20231029T100000
DTEND;TZID=Europe/London:20231029T160000
DTSTAMP:20260424T002018
CREATED:20231010T114749Z
LAST-MODIFIED:20231010T114749Z
UID:10011701-1698573600-1698595200@www.abingdon.gov.uk
SUMMARY:Flea Market & Collectors Fair
DESCRIPTION:Flea Market\, Antiques & Collectors Fair \n(Antiques\, Collectables\, Retro\, Crafts\, Jewellery\, cakes and more)\nfood and refreshments served during the event (grab a bit to eat) \n Sunday 29th Oct & Sunday Nov 5th  \nSteventon Village Hall\, The Green\, Steventon\, Abingdon OX13 6RR. \n (Set-up from 9am) Open 10am-4pm\,  \n£1.50 entry.
URL:https://www.abingdon.gov.uk/event/flea-market-collectors-fair-3/2023-10-29
CATEGORIES:Shopping
ATTACH;FMTTYPE=image/jpeg:https://www.abingdon.gov.uk/wp-content/uploads/2023/10/Steventon_OctNov_2023_A4_Poster_v1.jpg
ORGANIZER;CN="Phoenix Five Events LTD":MAILTO:Phoenixfiveevents@hotmail.com
END:VEVENT
END:VCALENDAR