BEGIN:VCALENDAR
VERSION:2.0
PRODID:-//Abingdon on Thames Town Council - ECPv6.15.18//NONSGML v1.0//EN
CALSCALE:GREGORIAN
METHOD:PUBLISH
X-WR-CALNAME:Abingdon on Thames Town Council
X-ORIGINAL-URL:https://www.abingdon.gov.uk
X-WR-CALDESC:Events for Abingdon on Thames Town Council
REFRESH-INTERVAL;VALUE=DURATION:PT1H
X-Robots-Tag:noindex
X-PUBLISHED-TTL:PT1H
BEGIN:VTIMEZONE
TZID:Europe/London
BEGIN:DAYLIGHT
TZOFFSETFROM:+0000
TZOFFSETTO:+0100
TZNAME:BST
DTSTART:20230326T010000
END:DAYLIGHT
BEGIN:STANDARD
TZOFFSETFROM:+0100
TZOFFSETTO:+0000
TZNAME:GMT
DTSTART:20231029T010000
END:STANDARD
BEGIN:DAYLIGHT
TZOFFSETFROM:+0000
TZOFFSETTO:+0100
TZNAME:BST
DTSTART:20240331T010000
END:DAYLIGHT
BEGIN:STANDARD
TZOFFSETFROM:+0100
TZOFFSETTO:+0000
TZNAME:GMT
DTSTART:20241027T010000
END:STANDARD
BEGIN:DAYLIGHT
TZOFFSETFROM:+0000
TZOFFSETTO:+0100
TZNAME:BST
DTSTART:20250330T010000
END:DAYLIGHT
BEGIN:STANDARD
TZOFFSETFROM:+0100
TZOFFSETTO:+0000
TZNAME:GMT
DTSTART:20251026T010000
END:STANDARD
END:VTIMEZONE
BEGIN:VEVENT
DTSTART;TZID=Europe/London:20240627T180000
DTEND;TZID=Europe/London:20240627T190000
DTSTAMP:20260423T061545
CREATED:20240610T110710Z
LAST-MODIFIED:20240610T110710Z
UID:50326-1719511200-1719514800@www.abingdon.gov.uk
SUMMARY:George Brown Author Talk
DESCRIPTION:George Brown is a new and emerging author\, currently writing in the historical thriller and sports fiction genres. His debut novel\, One Game at a Time\, was released in September 2023 and was swiftly followed by Deliver Us From Evil\, co-authored under the pseudonym Frank Francis.George will be talking about his writing experience so far\, offering advice to any aspiring authors and signing copies of his books.Tickets are £2\, including a free welcome drink. available from the library counter\, by calling 01235 520374 or emailing abingdon.library@oxfordshire.gov.uk
URL:https://www.abingdon.gov.uk/event/george-brown-author-talk
LOCATION:Abingdon Library\, The Charter\, Abingdon\, OX14 3LY\, United Kingdom
ATTACH;FMTTYPE=image/jpeg:https://www.abingdon.gov.uk/wp-content/uploads/2024/06/George-Brown-FB-post.jpg
ORGANIZER;CN="Abingdon Library":MAILTO:abingdon.library@oxfordshire.gov.uk
END:VEVENT
END:VCALENDAR