BEGIN:VCALENDAR
VERSION:2.0
PRODID:-//Abingdon on Thames Town Council - ECPv6.15.18//NONSGML v1.0//EN
CALSCALE:GREGORIAN
METHOD:PUBLISH
X-WR-CALNAME:Abingdon on Thames Town Council
X-ORIGINAL-URL:https://www.abingdon.gov.uk
X-WR-CALDESC:Events for Abingdon on Thames Town Council
REFRESH-INTERVAL;VALUE=DURATION:PT1H
X-Robots-Tag:noindex
X-PUBLISHED-TTL:PT1H
BEGIN:VTIMEZONE
TZID:Europe/London
BEGIN:DAYLIGHT
TZOFFSETFROM:+0000
TZOFFSETTO:+0100
TZNAME:BST
DTSTART:20250330T010000
END:DAYLIGHT
BEGIN:STANDARD
TZOFFSETFROM:+0100
TZOFFSETTO:+0000
TZNAME:GMT
DTSTART:20251026T010000
END:STANDARD
BEGIN:DAYLIGHT
TZOFFSETFROM:+0000
TZOFFSETTO:+0100
TZNAME:BST
DTSTART:20260329T010000
END:DAYLIGHT
BEGIN:STANDARD
TZOFFSETFROM:+0100
TZOFFSETTO:+0000
TZNAME:GMT
DTSTART:20261025T010000
END:STANDARD
BEGIN:DAYLIGHT
TZOFFSETFROM:+0000
TZOFFSETTO:+0100
TZNAME:BST
DTSTART:20270328T010000
END:DAYLIGHT
BEGIN:STANDARD
TZOFFSETFROM:+0100
TZOFFSETTO:+0000
TZNAME:GMT
DTSTART:20271031T010000
END:STANDARD
END:VTIMEZONE
BEGIN:VEVENT
DTSTART;TZID=Europe/London:20260425T100000
DTEND;TZID=Europe/London:20260425T150000
DTSTAMP:20260422T172653
CREATED:20260402T131921Z
LAST-MODIFIED:20260402T131921Z
UID:84782-1777111200-1777129200@www.abingdon.gov.uk
SUMMARY:Go Electric: Abingdon
DESCRIPTION:Go Electric Oxfordshire is a series of events taking place across the county this year\, giving you the chance to explore electric vehicles and learn more about switching to electric travel. \nEach event offers a relaxed\, informal space to: \n·      Get practical advice from EV experts\n·       Learn about ownership options such as car clubs and leasing\n·       Try out e‑bikes\n·       Find information on renewable energy\, energy efficiency\, and home‑charging options \nYou can also discover Oxfordshire’s plans to expand public EV charging and explore alternatives like charger sharing and cable channels. \nThese events are free\, open to everyone\, and delivered in partnership with Oxfordshire County Council\, the district and city councils\, and Let’s Experience Electric.
URL:https://www.abingdon.gov.uk/event/go-electric-abingdon
LOCATION:Abingdon Market Place
ATTACH;FMTTYPE=application/pdf:https://www.abingdon.gov.uk/wp-content/uploads/2026/04/go-electric-EV-event-poster.pdf
END:VEVENT
END:VCALENDAR