BEGIN:VCALENDAR
VERSION:2.0
PRODID:-//Abingdon on Thames Town Council - ECPv6.15.18//NONSGML v1.0//EN
CALSCALE:GREGORIAN
METHOD:PUBLISH
X-WR-CALNAME:Abingdon on Thames Town Council
X-ORIGINAL-URL:https://www.abingdon.gov.uk
X-WR-CALDESC:Events for Abingdon on Thames Town Council
REFRESH-INTERVAL;VALUE=DURATION:PT1H
X-Robots-Tag:noindex
X-PUBLISHED-TTL:PT1H
BEGIN:VTIMEZONE
TZID:Europe/London
BEGIN:DAYLIGHT
TZOFFSETFROM:+0000
TZOFFSETTO:+0100
TZNAME:BST
DTSTART:20200329T010000
END:DAYLIGHT
BEGIN:STANDARD
TZOFFSETFROM:+0100
TZOFFSETTO:+0000
TZNAME:GMT
DTSTART:20201025T010000
END:STANDARD
BEGIN:DAYLIGHT
TZOFFSETFROM:+0000
TZOFFSETTO:+0100
TZNAME:BST
DTSTART:20210328T010000
END:DAYLIGHT
BEGIN:STANDARD
TZOFFSETFROM:+0100
TZOFFSETTO:+0000
TZNAME:GMT
DTSTART:20211031T010000
END:STANDARD
BEGIN:DAYLIGHT
TZOFFSETFROM:+0000
TZOFFSETTO:+0100
TZNAME:BST
DTSTART:20220327T010000
END:DAYLIGHT
BEGIN:STANDARD
TZOFFSETFROM:+0100
TZOFFSETTO:+0000
TZNAME:GMT
DTSTART:20221030T010000
END:STANDARD
END:VTIMEZONE
BEGIN:VEVENT
DTSTART;TZID=Europe/London:20211101T110000
DTEND;TZID=Europe/London:20211222T180000
DTSTAMP:20260424T014527
CREATED:20211021T090733Z
LAST-MODIFIED:20211021T090733Z
UID:17774-1635764400-1640196000@www.abingdon.gov.uk
SUMMARY:Greenhouse Gallery Open
DESCRIPTION:The Greenhouse gallery will be open from 1 November to 22 December\, by appointment. Please email  pots@charlottestorrs-stoneware.co.uk to make an appointment. Visits are on the hour giving plenty of time to browse and enjoy a cup of home pressed mulled apple juice in our warm gazebo.
URL:https://www.abingdon.gov.uk/event/greenhouse-gallery-open
LOCATION:The Pottery\, 8 The Green\, Culham\, Abingdon OX14 4LZ\, 8 The Green\, Culham\, Abingdon OX14 4LZ\, Abingdon\, OX14 4LZ\, United Kingdom
CATEGORIES:Arts & Culture
ATTACH;FMTTYPE=image/jpeg:https://www.abingdon.gov.uk/wp-content/uploads/2021/10/GreenhouseGallery1.jpg
END:VEVENT
END:VCALENDAR