BEGIN:VCALENDAR
VERSION:2.0
PRODID:-//Abingdon on Thames Town Council - ECPv6.15.18//NONSGML v1.0//EN
CALSCALE:GREGORIAN
METHOD:PUBLISH
X-WR-CALNAME:Abingdon on Thames Town Council
X-ORIGINAL-URL:https://www.abingdon.gov.uk
X-WR-CALDESC:Events for Abingdon on Thames Town Council
REFRESH-INTERVAL;VALUE=DURATION:PT1H
X-Robots-Tag:noindex
X-PUBLISHED-TTL:PT1H
BEGIN:VTIMEZONE
TZID:Europe/London
BEGIN:DAYLIGHT
TZOFFSETFROM:+0000
TZOFFSETTO:+0100
TZNAME:BST
DTSTART:20230326T010000
END:DAYLIGHT
BEGIN:STANDARD
TZOFFSETFROM:+0100
TZOFFSETTO:+0000
TZNAME:GMT
DTSTART:20231029T010000
END:STANDARD
BEGIN:DAYLIGHT
TZOFFSETFROM:+0000
TZOFFSETTO:+0100
TZNAME:BST
DTSTART:20240331T010000
END:DAYLIGHT
BEGIN:STANDARD
TZOFFSETFROM:+0100
TZOFFSETTO:+0000
TZNAME:GMT
DTSTART:20241027T010000
END:STANDARD
BEGIN:DAYLIGHT
TZOFFSETFROM:+0000
TZOFFSETTO:+0100
TZNAME:BST
DTSTART:20250330T010000
END:DAYLIGHT
BEGIN:STANDARD
TZOFFSETFROM:+0100
TZOFFSETTO:+0000
TZNAME:GMT
DTSTART:20251026T010000
END:STANDARD
END:VTIMEZONE
BEGIN:VEVENT
DTSTART;TZID=Europe/London:20240615T130000
DTEND;TZID=Europe/London:20240615T150000
DTSTAMP:20260423T061310
CREATED:20240603T111759Z
LAST-MODIFIED:20240603T111759Z
UID:49929-1718456400-1718463600@www.abingdon.gov.uk
SUMMARY:Heights Trampoline & Gymnastics Fundraiser and Display Day
DESCRIPTION:Heights Club Fundraising & Display Day  \nSaturday 15th June 2024 13:00-15:00 \nJoin us for Heights Club Fundraising & Display Day\, raising money for new equipment for the club. \nSaturday 15th June 2024 \n13.00-15.00  \nVenue: White Horse Leisure and Tennis Centre \nAudlett Drive\, Abingdon\, Oxfordshire OX14 3PJ  \nOpen to members and non-members\, friends and family \nAny age 4 years upwards  \nNon–Members aged 4 to 8 years will need a parent/guardian present \nCurrent members can bring a friend or family member to spectate or participate! e.g. sibling\, parent\, grandparent \nSee booking form at the bottom of the page. \n  \nActivities to Try: \nTrampoline Taster Sessions: \n13:00-13:30 \n13:30-14:00 \n14:00-14:30 \n14:30-15:00 \n  \nGymnastics Taster Sessions: \n14:00-14:30 \n14:30-15:00 \n  \nAcro Taster Sessions: \n14:00-14:30 \n14:30-15:00 \n  \nTaster Session Costs: \nPayment in cash or bank transfer – see bank details below \nCost per half an hour – £3.00 \nCost per hour – £5.00 \nSpectators – £1.00 per person \n  \nBring a friend cost – £2.50 per half an hour or £4.00 per hour  \nFriend pays the normal rate \n   \nDisplays team members – £5 per person to participate in the display – this also gives participation in a chosen activity afterwards – booking still required \n  \nStalls \nClothing \n Cake & sweet stalls \nTombola
URL:https://www.abingdon.gov.uk/event/heights-trampoline-gymnastics-fundraiser-and-display-day
LOCATION:White Horse Leisure and Tennis Centre\, Abingdon
CATEGORIES:Sports & Leisure
ATTACH;FMTTYPE=image/jpeg:https://www.abingdon.gov.uk/wp-content/uploads/2021/05/default-crest.jpg
END:VEVENT
END:VCALENDAR