BEGIN:VCALENDAR
VERSION:2.0
PRODID:-//Abingdon on Thames Town Council - ECPv6.15.18//NONSGML v1.0//EN
CALSCALE:GREGORIAN
METHOD:PUBLISH
X-WR-CALNAME:Abingdon on Thames Town Council
X-ORIGINAL-URL:https://www.abingdon.gov.uk
X-WR-CALDESC:Events for Abingdon on Thames Town Council
REFRESH-INTERVAL;VALUE=DURATION:PT1H
X-Robots-Tag:noindex
X-PUBLISHED-TTL:PT1H
BEGIN:VTIMEZONE
TZID:Europe/London
BEGIN:DAYLIGHT
TZOFFSETFROM:+0000
TZOFFSETTO:+0100
TZNAME:BST
DTSTART:20200329T010000
END:DAYLIGHT
BEGIN:STANDARD
TZOFFSETFROM:+0100
TZOFFSETTO:+0000
TZNAME:GMT
DTSTART:20201025T010000
END:STANDARD
BEGIN:DAYLIGHT
TZOFFSETFROM:+0000
TZOFFSETTO:+0100
TZNAME:BST
DTSTART:20210328T010000
END:DAYLIGHT
BEGIN:STANDARD
TZOFFSETFROM:+0100
TZOFFSETTO:+0000
TZNAME:GMT
DTSTART:20211031T010000
END:STANDARD
BEGIN:DAYLIGHT
TZOFFSETFROM:+0000
TZOFFSETTO:+0100
TZNAME:BST
DTSTART:20220327T010000
END:DAYLIGHT
BEGIN:STANDARD
TZOFFSETFROM:+0100
TZOFFSETTO:+0000
TZNAME:GMT
DTSTART:20221030T010000
END:STANDARD
END:VTIMEZONE
BEGIN:VEVENT
DTSTART;TZID=Europe/London:20211216T193000
DTEND;TZID=Europe/London:20211216T213000
DTSTAMP:20260423T063255
CREATED:20211210T095339Z
LAST-MODIFIED:20211210T095339Z
UID:18480-1639683000-1639690200@www.abingdon.gov.uk
SUMMARY:Historical Christmas and Winter Folk Songs and Music -  Live Talk and Performance
DESCRIPTION:Thursday 16th December 2021\, 7.45pm at the Northcourt Centre\, Northcourt Road\, Abingdon OX14 1NS \nHistorical Christmas and Winter Folk Songs and Music –  Live Talk and Performance \n\n\n\nIan Giles is a traditional folk singer who also plays various traditional instruments. He has been performing and recording with Oxford folk group Magpie Lane and The Oxford Waits for over 25 years. The Oxford Waits are a revival of a medieval tradition of town bands which played for festive and ceremonial occasions. The modern Oxford group specialise in the music of the 17th century through its changes in political and religious fortune.\nFor our Christmas event\, Ian will give a costumed talk and performance of folk and traditional songs for Christmas and the winter season\, particularly but not exclusively from the 17th century. Seasonal refreshments will be served after the performance.
URL:https://www.abingdon.gov.uk/event/historical-christmas-and-winter-folk-songs-and-music-live-talk-and-performance
LOCATION:The Northcourt Centre\, Abingdon OX14 1NS\, Northcourt Road\,\, Abingdon\, OX14 1NS
CATEGORIES:Heritage
ATTACH;FMTTYPE=image/jpeg:https://www.abingdon.gov.uk/wp-content/uploads/2021/12/Ian-Giles.jpg
ORGANIZER;CN="Abingdon Area History and Archaeology Society":MAILTO:michaelfbloom@yahoo.co.uk
END:VEVENT
END:VCALENDAR