BEGIN:VCALENDAR
VERSION:2.0
PRODID:-//Abingdon on Thames Town Council - ECPv6.15.18//NONSGML v1.0//EN
CALSCALE:GREGORIAN
METHOD:PUBLISH
X-WR-CALNAME:Abingdon on Thames Town Council
X-ORIGINAL-URL:https://www.abingdon.gov.uk
X-WR-CALDESC:Events for Abingdon on Thames Town Council
REFRESH-INTERVAL;VALUE=DURATION:PT1H
X-Robots-Tag:noindex
X-PUBLISHED-TTL:PT1H
BEGIN:VTIMEZONE
TZID:Europe/London
BEGIN:DAYLIGHT
TZOFFSETFROM:+0000
TZOFFSETTO:+0100
TZNAME:BST
DTSTART:20230326T010000
END:DAYLIGHT
BEGIN:STANDARD
TZOFFSETFROM:+0100
TZOFFSETTO:+0000
TZNAME:GMT
DTSTART:20231029T010000
END:STANDARD
BEGIN:DAYLIGHT
TZOFFSETFROM:+0000
TZOFFSETTO:+0100
TZNAME:BST
DTSTART:20240331T010000
END:DAYLIGHT
BEGIN:STANDARD
TZOFFSETFROM:+0100
TZOFFSETTO:+0000
TZNAME:GMT
DTSTART:20241027T010000
END:STANDARD
BEGIN:DAYLIGHT
TZOFFSETFROM:+0000
TZOFFSETTO:+0100
TZNAME:BST
DTSTART:20250330T010000
END:DAYLIGHT
BEGIN:STANDARD
TZOFFSETFROM:+0100
TZOFFSETTO:+0000
TZNAME:GMT
DTSTART:20251026T010000
END:STANDARD
END:VTIMEZONE
BEGIN:VEVENT
DTSTART;TZID=Europe/London:20240308T130000
DTEND;TZID=Europe/London:20240308T143000
DTSTAMP:20260423T041338
CREATED:20240108T092835Z
LAST-MODIFIED:20240108T092835Z
UID:10014690-1709902800-1709908200@www.abingdon.gov.uk
SUMMARY:International Welcome café
DESCRIPTION:Friendship\, fun\, English conversation\, local information and refreshments every Friday in school term time
URL:https://www.abingdon.gov.uk/event/international-welcome-cafe-7/2024-03-08
LOCATION:Christ Church Barn\, Northcourt Rd\, Abingdon\, OX14 1PL
ATTACH;FMTTYPE=image/jpeg:https://www.abingdon.gov.uk/wp-content/uploads/2024/01/IMG-20231230-WA0000.jpg
ORGANIZER;CN="Christ Church%2C Northcourt Road%2C Abingdon":MAILTO:office@cca.net
END:VEVENT
END:VCALENDAR