BEGIN:VCALENDAR
VERSION:2.0
PRODID:-//Abingdon on Thames Town Council - ECPv6.15.18//NONSGML v1.0//EN
CALSCALE:GREGORIAN
METHOD:PUBLISH
X-WR-CALNAME:Abingdon on Thames Town Council
X-ORIGINAL-URL:https://www.abingdon.gov.uk
X-WR-CALDESC:Events for Abingdon on Thames Town Council
REFRESH-INTERVAL;VALUE=DURATION:PT1H
X-Robots-Tag:noindex
X-PUBLISHED-TTL:PT1H
BEGIN:VTIMEZONE
TZID:Europe/London
BEGIN:DAYLIGHT
TZOFFSETFROM:+0000
TZOFFSETTO:+0100
TZNAME:BST
DTSTART:20210328T010000
END:DAYLIGHT
BEGIN:STANDARD
TZOFFSETFROM:+0100
TZOFFSETTO:+0000
TZNAME:GMT
DTSTART:20211031T010000
END:STANDARD
BEGIN:DAYLIGHT
TZOFFSETFROM:+0000
TZOFFSETTO:+0100
TZNAME:BST
DTSTART:20220327T010000
END:DAYLIGHT
BEGIN:STANDARD
TZOFFSETFROM:+0100
TZOFFSETTO:+0000
TZNAME:GMT
DTSTART:20221030T010000
END:STANDARD
BEGIN:DAYLIGHT
TZOFFSETFROM:+0000
TZOFFSETTO:+0100
TZNAME:BST
DTSTART:20230326T010000
END:DAYLIGHT
BEGIN:STANDARD
TZOFFSETFROM:+0100
TZOFFSETTO:+0000
TZNAME:GMT
DTSTART:20231029T010000
END:STANDARD
END:VTIMEZONE
BEGIN:VEVENT
DTSTART;TZID=Europe/London:20220122T193000
DTEND;TZID=Europe/London:20220122T223000
DTSTAMP:20260423T165755
CREATED:20220104T094503Z
LAST-MODIFIED:20220104T094503Z
UID:18701-1642879800-1642890600@www.abingdon.gov.uk
SUMMARY:Joe Hicks with support from Steady Habits
DESCRIPTION:Big Ginger Tom Music are very pleased to be able to bring Joe Hicks to Harwell Village Hall. He and his friend Adam Barnes sold out one of our Lean To Sessions in Abingdon in January 2020 and it will be great to have Joe with his full band in Harwell. \nRaised in the rural market town of Newbury; English Singer-Songwriter Joe Hicks blends pop\, blues and folk influences\, combining intricate guitar composition with classic pop song-craft. Having made a name for himself as a session guitarist\, Hicks released his first solo single at the start of 2017 following a soul searching writing trip to a secluded Cornish Airbnb garage with no internet or phone signal. Soon after he was made ‘BBC Introducing Artist of the Week’\, receiving extensive radio play across the U.K and also a CLASH ’Track of the Day’ feature. Since then the songwriter has built up a sizeable online following (+1 million Spotify Streams) helped on by extensive support from BBC Introducing and touring of the UK and Europe\, including appearances at the Big Feastival\, Are You Listening? Festival\, over 30 Sofar Sounds shows and a slot supporting BRITS critics choice winner Sam Fender. \nJoe’s self-titled album (06.03.20) was recorded at Studio 91 in his home town of Newbury with producer Sam Winfield (Amber Run\, Fickle Friends). \n“This guy is absolutely smashing it\, we can’t wait to see what’s next for him!” – Linda Serck\, BBC Introducing Berkshire \nSupport will be from Steady Habits with front man Sean Duggan (The People Versus and Loud Mountains). \nTickets start from £15 available from http://www.wegottickets.com/event/514788 \nDoors and Bar at 7pm\, music at 7:40pm.
URL:https://www.abingdon.gov.uk/event/joe-hicks-with-support-from-steady-habits
LOCATION:Harwell Village Hall\, High Street\, Harwell\, OX11 0EX\, United Kingdom
CATEGORIES:Arts & Culture
ATTACH;FMTTYPE=image/jpeg:https://www.abingdon.gov.uk/wp-content/uploads/2022/01/Live-Strongroom-Joe-Hicks.jpg
END:VEVENT
END:VCALENDAR