BEGIN:VCALENDAR
VERSION:2.0
PRODID:-//Abingdon on Thames Town Council - ECPv6.15.18//NONSGML v1.0//EN
CALSCALE:GREGORIAN
METHOD:PUBLISH
X-WR-CALNAME:Abingdon on Thames Town Council
X-ORIGINAL-URL:https://www.abingdon.gov.uk
X-WR-CALDESC:Events for Abingdon on Thames Town Council
REFRESH-INTERVAL;VALUE=DURATION:PT1H
X-Robots-Tag:noindex
X-PUBLISHED-TTL:PT1H
BEGIN:VTIMEZONE
TZID:Europe/London
BEGIN:DAYLIGHT
TZOFFSETFROM:+0000
TZOFFSETTO:+0100
TZNAME:BST
DTSTART:20230326T010000
END:DAYLIGHT
BEGIN:STANDARD
TZOFFSETFROM:+0100
TZOFFSETTO:+0000
TZNAME:GMT
DTSTART:20231029T010000
END:STANDARD
BEGIN:DAYLIGHT
TZOFFSETFROM:+0000
TZOFFSETTO:+0100
TZNAME:BST
DTSTART:20240331T010000
END:DAYLIGHT
BEGIN:STANDARD
TZOFFSETFROM:+0100
TZOFFSETTO:+0000
TZNAME:GMT
DTSTART:20241027T010000
END:STANDARD
BEGIN:DAYLIGHT
TZOFFSETFROM:+0000
TZOFFSETTO:+0100
TZNAME:BST
DTSTART:20250330T010000
END:DAYLIGHT
BEGIN:STANDARD
TZOFFSETFROM:+0100
TZOFFSETTO:+0000
TZNAME:GMT
DTSTART:20251026T010000
END:STANDARD
END:VTIMEZONE
BEGIN:VEVENT
DTSTART;TZID=Europe/London:20241202T190000
DTEND;TZID=Europe/London:20241202T213000
DTSTAMP:20260421T212513
CREATED:20241001T131713Z
LAST-MODIFIED:20241001T131713Z
UID:54166-1733166000-1733175000@www.abingdon.gov.uk
SUMMARY:Kiss Me\, Kate: The Musical
DESCRIPTION:Adrian Dunbar (Line of Duty\, Ridley) and Broadway royalty Stephanie J. Block (Into The Woods\, The Cher Show) lead a stellar cast in a sizzling new 5-star production of Kiss Me\, Kate\, filmed live at the Barbican in London especially for the big screen. ‘A glorious Golden Age spectacular’ (★★★★★ TheTelegraph)\, Cole Porter’s legendary musical comedy has backstage shenanigans\, Shakespearean sonnets and singing gangsters – not to mention a romance that’s just too darn hot – and a full-scale orchestra performing the show tune classics Brush Up Your Shakespeare\, Too Darn Hot\, Always True To You (In my Fashion) and Tom\, Dick or Harry. A simple love story about two people who just can’t stand each other\, Kiss Me Kate is unmissable all-zinging entertainment with ‘great songs\, hot dancing\, smart gags and glorious characters.’ (★★★★★ The Daily Mail)
URL:https://www.abingdon.gov.uk/event/kiss-me-kate-the-musical
LOCATION:Amey Theatre\, Abingdon School\, Abingdon School Park Road\, Abingdon\, OX14 1DE\, United Kingdom
CATEGORIES:Arts & Culture
ATTACH;FMTTYPE=image/jpeg:https://www.abingdon.gov.uk/wp-content/uploads/2024/10/Kiss-Me-Kate-Quad-2000x1500-1.jpg
ORGANIZER;CN="Amey Theatre":MAILTO:boxoffice@abingdon.org.uk
END:VEVENT
END:VCALENDAR