BEGIN:VCALENDAR
VERSION:2.0
PRODID:-//Abingdon on Thames Town Council - ECPv6.15.18//NONSGML v1.0//EN
CALSCALE:GREGORIAN
METHOD:PUBLISH
X-WR-CALNAME:Abingdon on Thames Town Council
X-ORIGINAL-URL:https://www.abingdon.gov.uk
X-WR-CALDESC:Events for Abingdon on Thames Town Council
REFRESH-INTERVAL;VALUE=DURATION:PT1H
X-Robots-Tag:noindex
X-PUBLISHED-TTL:PT1H
BEGIN:VTIMEZONE
TZID:Europe/London
BEGIN:DAYLIGHT
TZOFFSETFROM:+0000
TZOFFSETTO:+0100
TZNAME:BST
DTSTART:20230326T010000
END:DAYLIGHT
BEGIN:STANDARD
TZOFFSETFROM:+0100
TZOFFSETTO:+0000
TZNAME:GMT
DTSTART:20231029T010000
END:STANDARD
BEGIN:DAYLIGHT
TZOFFSETFROM:+0000
TZOFFSETTO:+0100
TZNAME:BST
DTSTART:20240331T010000
END:DAYLIGHT
BEGIN:STANDARD
TZOFFSETFROM:+0100
TZOFFSETTO:+0000
TZNAME:GMT
DTSTART:20241027T010000
END:STANDARD
BEGIN:DAYLIGHT
TZOFFSETFROM:+0000
TZOFFSETTO:+0100
TZNAME:BST
DTSTART:20250330T010000
END:DAYLIGHT
BEGIN:STANDARD
TZOFFSETFROM:+0100
TZOFFSETTO:+0000
TZNAME:GMT
DTSTART:20251026T010000
END:STANDARD
END:VTIMEZONE
BEGIN:VEVENT
DTSTART;TZID=Europe/London:20240527T100000
DTEND;TZID=Europe/London:20240527T113000
DTSTAMP:20260423T054730
CREATED:20240513T144304Z
LAST-MODIFIED:20240513T144304Z
UID:10015273-1716804000-1716809400@www.abingdon.gov.uk
SUMMARY:Little Acorns Magical May at Earth Trust
DESCRIPTION:Nature-based play for little explorers this May Half Term \nOur Little Acorns sessions run every school holiday and feature a variety of seasonal activities for children to discover\, inspired by the natural world. \nThese are child-led experiences\, so our tutors support and guide children\, but do not direct them\, to allow each child to lead their own learning while developing their curiosity for nature. \nDevelop your little one’s curiosity with the magic of nature! \nIn the setting of our beautiful Earth Lab gardens\, this half term holiday your Little Acorns will be creating a magic nature wand\, decorated with found materials from around the beds and hedges\, using imagination and play to connect with nature on a mindful scavenger hunt. \nThere’ll be a mud kitchen\, a place to create their own herbal potions\, as well as getting their hands in the soil and helping water our Kitchen Garden. \nWe’ll finish gathered around the firepit for stories and toasted marshmallows. \nDates: Monday 27th and Tuesday 28th May 2024\nTime: 10-11.30am\nLocation: Earth Lab\, Earth Trust Centre\, Little Wittenham\, OX14 4QZ\nAges: 2-6 years (under 2s free)\nPrice: £10 per child (+booking fees) \nFor tickets and important information about the event visit: https://earthtrust.org.uk/events/little-acorns-magical-may/
URL:https://www.abingdon.gov.uk/event/little-acorns-magical-may-at-earth-trust/2024-05-27
LOCATION:Earth Trust Centre\, Little Wittenham\, Abingdon\, Oxfordshire\, OX14 4QZ\, United Kingdom
CATEGORIES:Environment
ATTACH;FMTTYPE=image/jpeg:https://www.abingdon.gov.uk/wp-content/uploads/2024/05/landscape.jpg
ORGANIZER;CN="Earth Trust":MAILTO:admin@earthtrust.org.uk
END:VEVENT
END:VCALENDAR