BEGIN:VCALENDAR
VERSION:2.0
PRODID:-//Abingdon on Thames Town Council - ECPv6.15.18//NONSGML v1.0//EN
CALSCALE:GREGORIAN
METHOD:PUBLISH
X-WR-CALNAME:Abingdon on Thames Town Council
X-ORIGINAL-URL:https://www.abingdon.gov.uk
X-WR-CALDESC:Events for Abingdon on Thames Town Council
REFRESH-INTERVAL;VALUE=DURATION:PT1H
X-Robots-Tag:noindex
X-PUBLISHED-TTL:PT1H
BEGIN:VTIMEZONE
TZID:Europe/London
BEGIN:DAYLIGHT
TZOFFSETFROM:+0000
TZOFFSETTO:+0100
TZNAME:BST
DTSTART:20200329T010000
END:DAYLIGHT
BEGIN:STANDARD
TZOFFSETFROM:+0100
TZOFFSETTO:+0000
TZNAME:GMT
DTSTART:20201025T010000
END:STANDARD
BEGIN:DAYLIGHT
TZOFFSETFROM:+0000
TZOFFSETTO:+0100
TZNAME:BST
DTSTART:20210328T010000
END:DAYLIGHT
BEGIN:STANDARD
TZOFFSETFROM:+0100
TZOFFSETTO:+0000
TZNAME:GMT
DTSTART:20211031T010000
END:STANDARD
BEGIN:DAYLIGHT
TZOFFSETFROM:+0000
TZOFFSETTO:+0100
TZNAME:BST
DTSTART:20220327T010000
END:DAYLIGHT
BEGIN:STANDARD
TZOFFSETFROM:+0100
TZOFFSETTO:+0000
TZNAME:GMT
DTSTART:20221030T010000
END:STANDARD
END:VTIMEZONE
BEGIN:VEVENT
DTSTART;TZID=Europe/London:20210927T193000
DTEND;TZID=Europe/London:20210927T203000
DTSTAMP:20260423T171947
CREATED:20210826T082559Z
LAST-MODIFIED:20210826T082559Z
UID:16215-1632771000-1632774600@www.abingdon.gov.uk
SUMMARY:MARCHAM SOCIETY AGM & TALK
DESCRIPTION:“BUTTERFLIES\, MARCHAM AND LOCKDOWN” \nThe first talk of the 2021-22 season by Jim Asher to be given in the new Marcham Centre. \nFor more details please email : Membership@MarchamSociety.org.uk or visit the Society website www.MarchamSociety.org.uk
URL:https://www.abingdon.gov.uk/event/marcham-society-agm-talk
LOCATION:Marcham Centre\, Barrow Close\, Marcham\, Abingdon\, OX136TY\, Barrow Close\, Marcham\, Abingdon\, Oxon\, OX13 6TY\, United Kingdom
CATEGORIES:Amenities and Recreation
ATTACH;FMTTYPE=image/jpeg:https://www.abingdon.gov.uk/wp-content/uploads/2021/08/Holly-Blue_f_Marcham_02May2020.jpg
ORGANIZER;CN="The Marcham Society":MAILTO:Membership@MarchamSociety.org.uk
END:VEVENT
END:VCALENDAR