BEGIN:VCALENDAR
VERSION:2.0
PRODID:-//Abingdon on Thames Town Council - ECPv6.15.18//NONSGML v1.0//EN
CALSCALE:GREGORIAN
METHOD:PUBLISH
X-WR-CALNAME:Abingdon on Thames Town Council
X-ORIGINAL-URL:https://www.abingdon.gov.uk
X-WR-CALDESC:Events for Abingdon on Thames Town Council
REFRESH-INTERVAL;VALUE=DURATION:PT1H
X-Robots-Tag:noindex
X-PUBLISHED-TTL:PT1H
BEGIN:VTIMEZONE
TZID:Europe/London
BEGIN:DAYLIGHT
TZOFFSETFROM:+0000
TZOFFSETTO:+0100
TZNAME:BST
DTSTART:20230326T010000
END:DAYLIGHT
BEGIN:STANDARD
TZOFFSETFROM:+0100
TZOFFSETTO:+0000
TZNAME:GMT
DTSTART:20231029T010000
END:STANDARD
BEGIN:DAYLIGHT
TZOFFSETFROM:+0000
TZOFFSETTO:+0100
TZNAME:BST
DTSTART:20240331T010000
END:DAYLIGHT
BEGIN:STANDARD
TZOFFSETFROM:+0100
TZOFFSETTO:+0000
TZNAME:GMT
DTSTART:20241027T010000
END:STANDARD
BEGIN:DAYLIGHT
TZOFFSETFROM:+0000
TZOFFSETTO:+0100
TZNAME:BST
DTSTART:20250330T010000
END:DAYLIGHT
BEGIN:STANDARD
TZOFFSETFROM:+0100
TZOFFSETTO:+0000
TZNAME:GMT
DTSTART:20251026T010000
END:STANDARD
END:VTIMEZONE
BEGIN:VEVENT
DTSTART;TZID=Europe/London:20240308T173000
DTEND;TZID=Europe/London:20240308T213000
DTSTAMP:20260423T023846
CREATED:20240119T141909Z
LAST-MODIFIED:20240119T141909Z
UID:45206-1709919000-1709933400@www.abingdon.gov.uk
SUMMARY:Mayor of Abingdon's Film Night
DESCRIPTION:The Mayor of Abingdon\, Cllr Gwyneth Lewis\, invites you to a free discussion and film night on the topic of Domestic Abuse on Friday 8th March 2024.  The event will be held in support of the Mayor’s charity\, Reducing the Risk. \nThe evening starts at 5.30pm when guests can be involved in discussions and presentations from local domestic abuse service advisors.  This will be followed by a free showing of the 1944 Oscar-nominated film Gaslight from 7.30pm. \nCollections for the Mayor’s Charity\, Reducing the Risk\, will be received throughout the evening. \nRefreshments will be available to purchase from the Abbey Cinema bar & kitchen. \nThe event is ticket entry only and these can be obtained by emailing enquiries@abingdon.gov.uk.
URL:https://www.abingdon.gov.uk/event/mayor-of-abingdons-film-night
LOCATION:Abbey Cinema\, Abbey Close\, Abingdon\, OX14 3JD\, United Kingdom
CATEGORIES:Arts & Culture
ATTACH;FMTTYPE=image/png:https://www.abingdon.gov.uk/wp-content/uploads/2024/01/Mayors-cinema-screening-flyer-January-2024-1.png
END:VEVENT
END:VCALENDAR