BEGIN:VCALENDAR
VERSION:2.0
PRODID:-//Abingdon on Thames Town Council - ECPv6.15.18//NONSGML v1.0//EN
CALSCALE:GREGORIAN
METHOD:PUBLISH
X-WR-CALNAME:Abingdon on Thames Town Council
X-ORIGINAL-URL:https://www.abingdon.gov.uk
X-WR-CALDESC:Events for Abingdon on Thames Town Council
REFRESH-INTERVAL;VALUE=DURATION:PT1H
X-Robots-Tag:noindex
X-PUBLISHED-TTL:PT1H
BEGIN:VTIMEZONE
TZID:Europe/London
BEGIN:DAYLIGHT
TZOFFSETFROM:+0000
TZOFFSETTO:+0100
TZNAME:BST
DTSTART:20210328T010000
END:DAYLIGHT
BEGIN:STANDARD
TZOFFSETFROM:+0100
TZOFFSETTO:+0000
TZNAME:GMT
DTSTART:20211031T010000
END:STANDARD
BEGIN:DAYLIGHT
TZOFFSETFROM:+0000
TZOFFSETTO:+0100
TZNAME:BST
DTSTART:20220327T010000
END:DAYLIGHT
BEGIN:STANDARD
TZOFFSETFROM:+0100
TZOFFSETTO:+0000
TZNAME:GMT
DTSTART:20221030T010000
END:STANDARD
BEGIN:DAYLIGHT
TZOFFSETFROM:+0000
TZOFFSETTO:+0100
TZNAME:BST
DTSTART:20230326T010000
END:DAYLIGHT
BEGIN:STANDARD
TZOFFSETFROM:+0100
TZOFFSETTO:+0000
TZNAME:GMT
DTSTART:20231029T010000
END:STANDARD
END:VTIMEZONE
BEGIN:VEVENT
DTSTART;TZID=Europe/London:20220219T103000
DTEND;TZID=Europe/London:20220219T130000
DTSTAMP:20260423T200437
CREATED:20220209T110319Z
LAST-MODIFIED:20220209T110319Z
UID:19205-1645266600-1645275600@www.abingdon.gov.uk
SUMMARY:Monthly Repair Café & Bike Check
DESCRIPTION:This event is organised by Abingdon Carbon Cutters. \nBring your repairs to the Climate Emergency Centre! This event is run entirely by volunteers who fix things in their spare time. \nBike checks also available under the arches. \nWe will have a lovely cuppa and homemade cakes on offer. \nRepairs are free\, but small donations are welcomed to cover overheads to ensure running repair cafés can continue into the future. \nPlease note that this Repair Cafe will not include the mending of clothes/materials – we have separate events just for ‘Making and Mending’\, see our Events page.
URL:https://www.abingdon.gov.uk/event/monthly-repair-cafe-bike-check-2
LOCATION:One Planet Abingdon\, Climate Emergency Centre\, under the County Hall\, Market Place\, Abingdon\, Oxon\, OX14 3HG\, United Kingdom
ATTACH;FMTTYPE=image/jpeg:https://www.abingdon.gov.uk/wp-content/uploads/2022/02/Repair.jpg
ORGANIZER;CN="One Planet Abingdon":MAILTO:contact@oneplanetabingdon.org
END:VEVENT
END:VCALENDAR