BEGIN:VCALENDAR
VERSION:2.0
PRODID:-//Abingdon on Thames Town Council - ECPv6.15.18//NONSGML v1.0//EN
CALSCALE:GREGORIAN
METHOD:PUBLISH
X-WR-CALNAME:Abingdon on Thames Town Council
X-ORIGINAL-URL:https://www.abingdon.gov.uk
X-WR-CALDESC:Events for Abingdon on Thames Town Council
REFRESH-INTERVAL;VALUE=DURATION:PT1H
X-Robots-Tag:noindex
X-PUBLISHED-TTL:PT1H
BEGIN:VTIMEZONE
TZID:Europe/London
BEGIN:DAYLIGHT
TZOFFSETFROM:+0000
TZOFFSETTO:+0100
TZNAME:BST
DTSTART:20210328T010000
END:DAYLIGHT
BEGIN:STANDARD
TZOFFSETFROM:+0100
TZOFFSETTO:+0000
TZNAME:GMT
DTSTART:20211031T010000
END:STANDARD
BEGIN:DAYLIGHT
TZOFFSETFROM:+0000
TZOFFSETTO:+0100
TZNAME:BST
DTSTART:20220327T010000
END:DAYLIGHT
BEGIN:STANDARD
TZOFFSETFROM:+0100
TZOFFSETTO:+0000
TZNAME:GMT
DTSTART:20221030T010000
END:STANDARD
BEGIN:DAYLIGHT
TZOFFSETFROM:+0000
TZOFFSETTO:+0100
TZNAME:BST
DTSTART:20230326T010000
END:DAYLIGHT
BEGIN:STANDARD
TZOFFSETFROM:+0100
TZOFFSETTO:+0000
TZNAME:GMT
DTSTART:20231029T010000
END:STANDARD
END:VTIMEZONE
BEGIN:VEVENT
DTSTART;TZID=Europe/London:20220723T103000
DTEND;TZID=Europe/London:20220723T130000
DTSTAMP:20260422T112008
CREATED:20220718T112116Z
LAST-MODIFIED:20220718T112116Z
UID:22215-1658572200-1658581200@www.abingdon.gov.uk
SUMMARY:Monthly Repair Café\, Bike Check & Sharpening
DESCRIPTION:This event is organised by Abingdon Carbon Cutters. \nBring your repairs to the Climate Emergency Centre! This event is run entirely by volunteers who fix things in their spare time. \n– Bring your bike to be checked over under the arches of the museum. \n– Bring your blunt secateurs\, scissors\, knives etc and give them a new edge! (If it is busy we may restrict you to 1 item at a time\, sorry!). \n– Bring your broken electrical or mechanical or wooden item\, toy or furniture and our volunteer repairers will try to mend it. Stay and watch them fix it\, and while you wait to be seen\, browse the interesting displays in the Climate Emergency Centre\, or enjoy a coffee or tea and piece of cake. \nRepairs are free\, but small donations are welcomed to cover overheads to ensure running repair cafés can continue into the future. \nPlease note that this Repair Cafe will not include the mending of clothes/materials – we have seperate events just for ‘Making and Mending’\, see our Events page. \nRepairs can also still happen in repairers’ homes if that is more convenient for you. If you have an item that needs fixing\, and cannot bring it in to the centre\, please fill in this form. One of our Repair Café Volunteers will then get in touch with you to find out more about the fault\, and if they think they can mend it\, to let you know where to bring the item.
URL:https://www.abingdon.gov.uk/event/monthly-repair-cafe-bike-check-sharpening-2
LOCATION:One Planet Abingdon\, Climate Emergency Centre\, under the County Hall\, Market Place\, Abingdon\, Oxon\, OX14 3HG\, United Kingdom
ATTACH;FMTTYPE=image/png:https://www.abingdon.gov.uk/wp-content/uploads/2022/07/RepairCafe.png
ORGANIZER;CN="One Planet Abingdon":MAILTO:contact@oneplanetabingdon.org
END:VEVENT
END:VCALENDAR