BEGIN:VCALENDAR
VERSION:2.0
PRODID:-//Abingdon on Thames Town Council - ECPv6.15.18//NONSGML v1.0//EN
CALSCALE:GREGORIAN
METHOD:PUBLISH
X-WR-CALNAME:Abingdon on Thames Town Council
X-ORIGINAL-URL:https://www.abingdon.gov.uk
X-WR-CALDESC:Events for Abingdon on Thames Town Council
REFRESH-INTERVAL;VALUE=DURATION:PT1H
X-Robots-Tag:noindex
X-PUBLISHED-TTL:PT1H
BEGIN:VTIMEZONE
TZID:Europe/London
BEGIN:DAYLIGHT
TZOFFSETFROM:+0000
TZOFFSETTO:+0100
TZNAME:BST
DTSTART:20230326T010000
END:DAYLIGHT
BEGIN:STANDARD
TZOFFSETFROM:+0100
TZOFFSETTO:+0000
TZNAME:GMT
DTSTART:20231029T010000
END:STANDARD
BEGIN:DAYLIGHT
TZOFFSETFROM:+0000
TZOFFSETTO:+0100
TZNAME:BST
DTSTART:20240331T010000
END:DAYLIGHT
BEGIN:STANDARD
TZOFFSETFROM:+0100
TZOFFSETTO:+0000
TZNAME:GMT
DTSTART:20241027T010000
END:STANDARD
BEGIN:DAYLIGHT
TZOFFSETFROM:+0000
TZOFFSETTO:+0100
TZNAME:BST
DTSTART:20250330T010000
END:DAYLIGHT
BEGIN:STANDARD
TZOFFSETFROM:+0100
TZOFFSETTO:+0000
TZNAME:GMT
DTSTART:20251026T010000
END:STANDARD
END:VTIMEZONE
BEGIN:VEVENT
DTSTART;TZID=Europe/London:20240720T100000
DTEND;TZID=Europe/London:20240721T160000
DTSTAMP:20260423T043946
CREATED:20240507T082400Z
LAST-MODIFIED:20240507T082400Z
UID:48870-1721469600-1721577600@www.abingdon.gov.uk
SUMMARY:Nature's Influence
DESCRIPTION:Original art\, gifts and cards inspired by the peaceful garden at St Ethelwold’s. Live demonstrations \nLocal Abingdon artists Emma Williams and Joanne Sonnier both graduated with degrees in Fine Art and went on to spend many years teaching Art and Design. They first met when they joined Abingdon Artists\, within a week of each other\, with the intention of focusing on their own art once more.  They bonded over their shared love of nature\, whilst drawing in the beautiful gardens at St Ethelwold’s. Two years later this is their first joint exhibition which will showcase nature’s influence on their art.
URL:https://www.abingdon.gov.uk/event/natures-influence
LOCATION:St Ethelwold’s House\, 30 East Saint Helen Street\, Abingdon\, OX14 5EB\, United Kingdom
CATEGORIES:Arts & Culture
ATTACH;FMTTYPE=image/jpeg:https://www.abingdon.gov.uk/wp-content/uploads/2024/05/Natures-influence-poster-scaled.jpg
ORGANIZER;CN="Natural Learning Oxford":MAILTO:info@naturallearningoxford.co.uk
END:VEVENT
END:VCALENDAR