BEGIN:VCALENDAR
VERSION:2.0
PRODID:-//Abingdon on Thames Town Council - ECPv6.15.18//NONSGML v1.0//EN
CALSCALE:GREGORIAN
METHOD:PUBLISH
X-WR-CALNAME:Abingdon on Thames Town Council
X-ORIGINAL-URL:https://www.abingdon.gov.uk
X-WR-CALDESC:Events for Abingdon on Thames Town Council
REFRESH-INTERVAL;VALUE=DURATION:PT1H
X-Robots-Tag:noindex
X-PUBLISHED-TTL:PT1H
BEGIN:VTIMEZONE
TZID:Europe/London
BEGIN:DAYLIGHT
TZOFFSETFROM:+0000
TZOFFSETTO:+0100
TZNAME:BST
DTSTART:20230326T010000
END:DAYLIGHT
BEGIN:STANDARD
TZOFFSETFROM:+0100
TZOFFSETTO:+0000
TZNAME:GMT
DTSTART:20231029T010000
END:STANDARD
BEGIN:DAYLIGHT
TZOFFSETFROM:+0000
TZOFFSETTO:+0100
TZNAME:BST
DTSTART:20240331T010000
END:DAYLIGHT
BEGIN:STANDARD
TZOFFSETFROM:+0100
TZOFFSETTO:+0000
TZNAME:GMT
DTSTART:20241027T010000
END:STANDARD
BEGIN:DAYLIGHT
TZOFFSETFROM:+0000
TZOFFSETTO:+0100
TZNAME:BST
DTSTART:20250330T010000
END:DAYLIGHT
BEGIN:STANDARD
TZOFFSETFROM:+0100
TZOFFSETTO:+0000
TZNAME:GMT
DTSTART:20251026T010000
END:STANDARD
END:VTIMEZONE
BEGIN:VEVENT
DTSTART;TZID=Europe/London:20240613T180000
DTEND;TZID=Europe/London:20240613T190000
DTSTAMP:20260422T212658
CREATED:20240528T113314Z
LAST-MODIFIED:20240528T113314Z
UID:49539-1718301600-1718305200@www.abingdon.gov.uk
SUMMARY:Neil Clark Author Talk
DESCRIPTION:Journalist\, broadcaster and author Neil Clark will be talking about his latest book: Edgar Wallace\, The Man Who Created King Kong\, which tells the ‘stranger than fiction’ tale of British writer and journalist Edgar Wallace\, who rose from poverty in Victorian England to become the world’s best-selling author in the 1920’s\, before his death in Hollywood in 1932 at the height of his success. Tickets including a free welcome drink\, available from the library counter\, by calling 01235 520374 or email abingdon.library@oxfordshire.gov.uk
URL:https://www.abingdon.gov.uk/event/neil-clark-author-talk
LOCATION:Abingdon Library\, The Charter\, Abingdon\, OX14 3LY\, United Kingdom
ATTACH;FMTTYPE=image/jpeg:https://www.abingdon.gov.uk/wp-content/uploads/2024/05/Neil-Clark-FB-post-1.jpg
ORGANIZER;CN="Abingdon Library":MAILTO:abingdon.library@oxfordshire.gov.uk
END:VEVENT
END:VCALENDAR