BEGIN:VCALENDAR
VERSION:2.0
PRODID:-//Abingdon on Thames Town Council - ECPv6.15.18//NONSGML v1.0//EN
CALSCALE:GREGORIAN
METHOD:PUBLISH
X-WR-CALNAME:Abingdon on Thames Town Council
X-ORIGINAL-URL:https://www.abingdon.gov.uk
X-WR-CALDESC:Events for Abingdon on Thames Town Council
REFRESH-INTERVAL;VALUE=DURATION:PT1H
X-Robots-Tag:noindex
X-PUBLISHED-TTL:PT1H
BEGIN:VTIMEZONE
TZID:Europe/London
BEGIN:DAYLIGHT
TZOFFSETFROM:+0000
TZOFFSETTO:+0100
TZNAME:BST
DTSTART:20210328T010000
END:DAYLIGHT
BEGIN:STANDARD
TZOFFSETFROM:+0100
TZOFFSETTO:+0000
TZNAME:GMT
DTSTART:20211031T010000
END:STANDARD
BEGIN:DAYLIGHT
TZOFFSETFROM:+0000
TZOFFSETTO:+0100
TZNAME:BST
DTSTART:20220327T010000
END:DAYLIGHT
BEGIN:STANDARD
TZOFFSETFROM:+0100
TZOFFSETTO:+0000
TZNAME:GMT
DTSTART:20221030T010000
END:STANDARD
BEGIN:DAYLIGHT
TZOFFSETFROM:+0000
TZOFFSETTO:+0100
TZNAME:BST
DTSTART:20230326T010000
END:DAYLIGHT
BEGIN:STANDARD
TZOFFSETFROM:+0100
TZOFFSETTO:+0000
TZNAME:GMT
DTSTART:20231029T010000
END:STANDARD
END:VTIMEZONE
BEGIN:VEVENT
DTSTART;TZID=Europe/London:20220127T190000
DTEND;TZID=Europe/London:20220127T220000
DTSTAMP:20260423T165500
CREATED:20211105T132414Z
LAST-MODIFIED:20211105T132414Z
UID:17960-1643310000-1643320800@www.abingdon.gov.uk
SUMMARY:NT Live: Leopoldstadt
DESCRIPTION:Tom Stoppard’s Olivier Award-winning new play Leopoldstadt is a passionate drama of love\, family and endurance. \nAt the beginning of the 20th century\, Leopoldstadt was the old\, crowded Jewish quarter of Vienna\, Austria. But Hermann Merz\, a factory owner and baptised Jew now married to Catholic Gretl\, has moved up in the world. \nWe follow his family’s story across half a century\, passing through the convulsions of war\, revolution\, impoverishment\, annexation by Nazi Germany and the Holocaust. A company of 40 actors represent each generation of the family in this epic\, but intimate play. \nFilmed live on stage in London’s West End\, ‘Tom Stoppard’s masterpiece is magnificent’ (Independent) and should not be missed.
URL:https://www.abingdon.gov.uk/event/nt-live-leopoldstadt
LOCATION:Amey Theatre\, Abingdon School\, Abingdon School Park Road\, Abingdon\, OX14 1DE\, United Kingdom
CATEGORIES:Arts & Culture
ATTACH;FMTTYPE=image/jpeg:https://www.abingdon.gov.uk/wp-content/uploads/2021/11/NTL-2022-Leopoldstadt-Portrait-Listing-Image-874x1240px.jpg
ORGANIZER;CN="Amey Theatre":MAILTO:boxoffice@abingdon.org.uk
END:VEVENT
END:VCALENDAR