BEGIN:VCALENDAR
VERSION:2.0
PRODID:-//Abingdon on Thames Town Council - ECPv6.15.18//NONSGML v1.0//EN
CALSCALE:GREGORIAN
METHOD:PUBLISH
X-WR-CALNAME:Abingdon on Thames Town Council
X-ORIGINAL-URL:https://www.abingdon.gov.uk
X-WR-CALDESC:Events for Abingdon on Thames Town Council
REFRESH-INTERVAL;VALUE=DURATION:PT1H
X-Robots-Tag:noindex
X-PUBLISHED-TTL:PT1H
BEGIN:VTIMEZONE
TZID:Europe/London
BEGIN:DAYLIGHT
TZOFFSETFROM:+0000
TZOFFSETTO:+0100
TZNAME:BST
DTSTART:20230326T010000
END:DAYLIGHT
BEGIN:STANDARD
TZOFFSETFROM:+0100
TZOFFSETTO:+0000
TZNAME:GMT
DTSTART:20231029T010000
END:STANDARD
BEGIN:DAYLIGHT
TZOFFSETFROM:+0000
TZOFFSETTO:+0100
TZNAME:BST
DTSTART:20240331T010000
END:DAYLIGHT
BEGIN:STANDARD
TZOFFSETFROM:+0100
TZOFFSETTO:+0000
TZNAME:GMT
DTSTART:20241027T010000
END:STANDARD
BEGIN:DAYLIGHT
TZOFFSETFROM:+0000
TZOFFSETTO:+0100
TZNAME:BST
DTSTART:20250330T010000
END:DAYLIGHT
BEGIN:STANDARD
TZOFFSETFROM:+0100
TZOFFSETTO:+0000
TZNAME:GMT
DTSTART:20251026T010000
END:STANDARD
END:VTIMEZONE
BEGIN:VEVENT
DTSTART;TZID=Europe/London:20240718T190000
DTEND;TZID=Europe/London:20240718T213000
DTSTAMP:20260422T154301
CREATED:20240606T094351Z
LAST-MODIFIED:20240606T094351Z
UID:50227-1721329200-1721338200@www.abingdon.gov.uk
SUMMARY:NT Live: Present Laughter
DESCRIPTION:The multi award-winning production of Noël Coward’s provocative comedy featuring Andrew Scott (Vanya\, Fleabag) returns to the big screen. \nAs he prepares to embark on an overseas tour\, star actor Garry Essendine’s colourful life is in danger of spiralling out of control. Engulfed by an escalating identity crisis as his many and various relationships compete for his attention\, Garry’s few remaining days at home are a chaotic whirlwind of love\, sex\, panic and soul-searching. \nFilmed live from The Old Vic in London during a sold out run in 2019\, Matthew Warchus (Matilda The Musical) directs this giddy and surprisingly modern reflection on fame\, desire and loneliness.
URL:https://www.abingdon.gov.uk/event/nt-live-present-laughter
LOCATION:Amey Theatre\, Abingdon School\, Abingdon School Park Road\, Abingdon\, OX14 1DE\, United Kingdom
CATEGORIES:Arts & Culture
ATTACH;FMTTYPE=image/jpeg:https://www.abingdon.gov.uk/wp-content/uploads/2024/06/NTL-2024-Present-Laughter-Website-Listing-Images_layeredfilesListings-1240x874px-white.jpg
ORGANIZER;CN="Amey Theatre":MAILTO:boxoffice@abingdon.org.uk
END:VEVENT
END:VCALENDAR