BEGIN:VCALENDAR
VERSION:2.0
PRODID:-//Abingdon on Thames Town Council - ECPv6.15.18//NONSGML v1.0//EN
CALSCALE:GREGORIAN
METHOD:PUBLISH
X-WR-CALNAME:Abingdon on Thames Town Council
X-ORIGINAL-URL:https://www.abingdon.gov.uk
X-WR-CALDESC:Events for Abingdon on Thames Town Council
REFRESH-INTERVAL;VALUE=DURATION:PT1H
X-Robots-Tag:noindex
X-PUBLISHED-TTL:PT1H
BEGIN:VTIMEZONE
TZID:Europe/London
BEGIN:DAYLIGHT
TZOFFSETFROM:+0000
TZOFFSETTO:+0100
TZNAME:BST
DTSTART:20230326T010000
END:DAYLIGHT
BEGIN:STANDARD
TZOFFSETFROM:+0100
TZOFFSETTO:+0000
TZNAME:GMT
DTSTART:20231029T010000
END:STANDARD
BEGIN:DAYLIGHT
TZOFFSETFROM:+0000
TZOFFSETTO:+0100
TZNAME:BST
DTSTART:20240331T010000
END:DAYLIGHT
BEGIN:STANDARD
TZOFFSETFROM:+0100
TZOFFSETTO:+0000
TZNAME:GMT
DTSTART:20241027T010000
END:STANDARD
BEGIN:DAYLIGHT
TZOFFSETFROM:+0000
TZOFFSETTO:+0100
TZNAME:BST
DTSTART:20250330T010000
END:DAYLIGHT
BEGIN:STANDARD
TZOFFSETFROM:+0100
TZOFFSETTO:+0000
TZNAME:GMT
DTSTART:20251026T010000
END:STANDARD
END:VTIMEZONE
BEGIN:VEVENT
DTSTART;TZID=Europe/London:20240615T140000
DTEND;TZID=Europe/London:20240615T160000
DTSTAMP:20260423T073753
CREATED:20240528T105436Z
LAST-MODIFIED:20240528T105436Z
UID:49622-1718460000-1718467200@www.abingdon.gov.uk
SUMMARY:Our Future Energy Stories - a workshop for young people at One Planet
DESCRIPTION:As part of the activities and events for the One Planet Living Festival\, a fun\, creative\, and imaginative workshop for ages 10+ (adults welcome) about prospects for a sustainable future. This free workshop is ready to book on the website! \nThis workshop explores the possibilities of a sustainable future through interactive activities. Participants aged 10 and above will gain knowledge about: \n\nSustainable energy generation\nThe connection between energy and climate change\nActions to reduce carbon footprints\nClimate-friendly career options\n\nThe workshop format includes: \n\nCollaborative activities\nGroup discussions\nAll resources will be provided.\n\nThis is a great opportunity for young people interested in learning about sustainability and its role in shaping the future.
URL:https://www.abingdon.gov.uk/event/our-future-energy-stories-a-workshop-for-young-people-at-one-planet
LOCATION:Kempster Room\, Basement\, Abingdon County Hall Museum\,  Market Place\, Abingdon\, OXON. OX14 3HG.
CATEGORIES:Environment
ATTACH;FMTTYPE=image/jpeg:https://www.abingdon.gov.uk/wp-content/uploads/2024/05/our-future-energy-stories.jpg
ORGANIZER;CN="One Planet Abingdon":MAILTO:contact@oneplanetabingdon.org
END:VEVENT
END:VCALENDAR