BEGIN:VCALENDAR
VERSION:2.0
PRODID:-//Abingdon on Thames Town Council - ECPv6.15.20//NONSGML v1.0//EN
CALSCALE:GREGORIAN
METHOD:PUBLISH
X-WR-CALNAME:Abingdon on Thames Town Council
X-ORIGINAL-URL:https://www.abingdon.gov.uk
X-WR-CALDESC:Events for Abingdon on Thames Town Council
REFRESH-INTERVAL;VALUE=DURATION:PT1H
X-Robots-Tag:noindex
X-PUBLISHED-TTL:PT1H
BEGIN:VTIMEZONE
TZID:Europe/London
BEGIN:DAYLIGHT
TZOFFSETFROM:+0000
TZOFFSETTO:+0100
TZNAME:BST
DTSTART:20220327T010000
END:DAYLIGHT
BEGIN:STANDARD
TZOFFSETFROM:+0100
TZOFFSETTO:+0000
TZNAME:GMT
DTSTART:20221030T010000
END:STANDARD
BEGIN:DAYLIGHT
TZOFFSETFROM:+0000
TZOFFSETTO:+0100
TZNAME:BST
DTSTART:20230326T010000
END:DAYLIGHT
BEGIN:STANDARD
TZOFFSETFROM:+0100
TZOFFSETTO:+0000
TZNAME:GMT
DTSTART:20231029T010000
END:STANDARD
BEGIN:DAYLIGHT
TZOFFSETFROM:+0000
TZOFFSETTO:+0100
TZNAME:BST
DTSTART:20240331T010000
END:DAYLIGHT
BEGIN:STANDARD
TZOFFSETFROM:+0100
TZOFFSETTO:+0000
TZNAME:GMT
DTSTART:20241027T010000
END:STANDARD
END:VTIMEZONE
BEGIN:VEVENT
DTSTART;TZID=Europe/London:20231217T150000
DTEND;TZID=Europe/London:20231217T160000
DTSTAMP:20260425T134847
CREATED:20231013T141320Z
LAST-MODIFIED:20231013T141320Z
UID:42864-1702825200-1702828800@www.abingdon.gov.uk
SUMMARY:Pavlova Wind Quintet Christmas Concert
DESCRIPTION:Light music for a winter afternoon \nTraditional Christmas Favourites \n  \nPavlova Winds \nPeter Robertson flute \nAlison Street oboe \nBarbara Stuart clarinet \nJenny Morgan horn \nSimon Payne bassoon
URL:https://www.abingdon.gov.uk/event/pavlova-wind-quintet-christmas-concert
LOCATION:St Nicolas Church\, Market Place\, Abingdon-on-Thames\, OX14 3JL\, United Kingdom
CATEGORIES:Arts & Culture,Market Place
ATTACH;FMTTYPE=image/jpeg:https://www.abingdon.gov.uk/wp-content/uploads/2023/10/xmas-concert.jpg
ORGANIZER;CN="Abbey Chamber Concerts":MAILTO:simon.payne@virgin.net
END:VEVENT
END:VCALENDAR