BEGIN:VCALENDAR
VERSION:2.0
PRODID:-//Abingdon on Thames Town Council - ECPv6.15.18//NONSGML v1.0//EN
CALSCALE:GREGORIAN
METHOD:PUBLISH
X-WR-CALNAME:Abingdon on Thames Town Council
X-ORIGINAL-URL:https://www.abingdon.gov.uk
X-WR-CALDESC:Events for Abingdon on Thames Town Council
REFRESH-INTERVAL;VALUE=DURATION:PT1H
X-Robots-Tag:noindex
X-PUBLISHED-TTL:PT1H
BEGIN:VTIMEZONE
TZID:Europe/London
BEGIN:DAYLIGHT
TZOFFSETFROM:+0000
TZOFFSETTO:+0100
TZNAME:BST
DTSTART:20230326T010000
END:DAYLIGHT
BEGIN:STANDARD
TZOFFSETFROM:+0100
TZOFFSETTO:+0000
TZNAME:GMT
DTSTART:20231029T010000
END:STANDARD
BEGIN:DAYLIGHT
TZOFFSETFROM:+0000
TZOFFSETTO:+0100
TZNAME:BST
DTSTART:20240331T010000
END:DAYLIGHT
BEGIN:STANDARD
TZOFFSETFROM:+0100
TZOFFSETTO:+0000
TZNAME:GMT
DTSTART:20241027T010000
END:STANDARD
BEGIN:DAYLIGHT
TZOFFSETFROM:+0000
TZOFFSETTO:+0100
TZNAME:BST
DTSTART:20250330T010000
END:DAYLIGHT
BEGIN:STANDARD
TZOFFSETFROM:+0100
TZOFFSETTO:+0000
TZNAME:GMT
DTSTART:20251026T010000
END:STANDARD
END:VTIMEZONE
BEGIN:VEVENT
DTSTART;TZID=Europe/London:20240224T110000
DTEND;TZID=Europe/London:20240224T120000
DTSTAMP:20260423T012910
CREATED:20240206T105144Z
LAST-MODIFIED:20240206T105153Z
UID:45611-1708772400-1708776000@www.abingdon.gov.uk
SUMMARY:Plastic Pollution and what we can do about it
DESCRIPTION:A presentation showing the extent of plastic pollution and the damage it causes to the environment\, wildlife and ourselves. What steps we can take as individuals to avoid adding to the problem\, and the Town Council’s exciting plans to reduce unnecessary plastic in the town. Talk followed by discussion and sharing of ideas.
URL:https://www.abingdon.gov.uk/event/plastic-pollution-and-what-we-can-do-about-it
LOCATION:One Planet Abingdon\, Climate Emergency Centre\, under the County Hall\, Market Place\, Abingdon\, Oxon\, OX14 3HG\, United Kingdom
ATTACH;FMTTYPE=image/jpeg:https://www.abingdon.gov.uk/wp-content/uploads/2024/02/plastic-pollution.jpg
ORGANIZER;CN="One Planet Abingdon":MAILTO:contact@oneplanetabingdon.org
END:VEVENT
END:VCALENDAR